Package: BioNet Version: 1.71.0 Command: /Library/Frameworks/R.framework/Resources/bin/R CMD INSTALL BioNet StartedAt: 2025-11-17 15:19:34 -0500 (Mon, 17 Nov 2025) EndedAt: 2025-11-17 15:19:55 -0500 (Mon, 17 Nov 2025) EllapsedTime: 20.5 seconds RetCode: 0 Status: OK