Package: BioNet Version: 1.71.0 Command: /Library/Frameworks/R.framework/Resources/bin/R CMD build --keep-empty-dirs --no-resave-data BioNet StartedAt: 2025-11-17 16:20:00 -0500 (Mon, 17 Nov 2025) EndedAt: 2025-11-17 16:20:49 -0500 (Mon, 17 Nov 2025) EllapsedTime: 49.2 seconds RetCode: 0 Status: OK PackageFile: BioNet_1.71.0.tar.gz PackageFileSize: 1.801 MiB