Package: BioNet Version: 1.71.0 Command: rm -rf BioNet.buildbin-libdir && mkdir BioNet.buildbin-libdir && /Users/biocbuild/BBS/utils/build-universal.sh BioNet_1.71.0.tar.gz /Library/Frameworks/R.framework/Resources/bin/R BioNet.buildbin-libdir StartedAt: 2025-11-18 06:50:36 -0500 (Tue, 18 Nov 2025) EndedAt: 2025-11-18 06:51:01 -0500 (Tue, 18 Nov 2025) EllapsedTime: 24.3 seconds RetCode: 0 Status: OK PackageFile: BioNet_1.71.0.tgz PackageFileSize: 1.526 MiB