Package: BioNet Version: 1.71.0 Command: /Library/Frameworks/R.framework/Resources/bin/R CMD INSTALL BioNet StartedAt: 2025-11-14 15:09:26 -0500 (Fri, 14 Nov 2025) EndedAt: 2025-11-14 15:09:31 -0500 (Fri, 14 Nov 2025) EllapsedTime: 5.6 seconds RetCode: 0 Status: OK