Package: BioNet Version: 1.71.0 Command: /Library/Frameworks/R.framework/Resources/bin/R CMD build --keep-empty-dirs --no-resave-data BioNet StartedAt: 2025-11-14 15:46:02 -0500 (Fri, 14 Nov 2025) EndedAt: 2025-11-14 15:46:25 -0500 (Fri, 14 Nov 2025) EllapsedTime: 22.2 seconds RetCode: 0 Status: OK PackageFile: BioNet_1.71.0.tar.gz PackageFileSize: 1.802 MiB