Package: BioNet Version: 1.71.0 Command: rm -rf BioNet.buildbin-libdir && mkdir BioNet.buildbin-libdir && /Users/biocbuild/BBS/utils/build-universal.sh BioNet_1.71.0.tar.gz /Library/Frameworks/R.framework/Resources/bin/R BioNet.buildbin-libdir StartedAt: 2025-11-14 23:24:35 -0500 (Fri, 14 Nov 2025) EndedAt: 2025-11-14 23:24:43 -0500 (Fri, 14 Nov 2025) EllapsedTime: 8.3 seconds RetCode: 0 Status: OK PackageFile: BioNet_1.71.0.tgz PackageFileSize: 1.529 MiB