Package: BioMVCClass Version: 1.77.0 Command: /home/biocbuild/R/R/bin/R CMD INSTALL BioMVCClass StartedAt: 2025-09-29 20:46:37 -0000 (Mon, 29 Sep 2025) EndedAt: 2025-09-29 20:46:42 -0000 (Mon, 29 Sep 2025) EllapsedTime: 5.1 seconds RetCode: 0 Status: OK