Package: BioMVCClass Version: 1.79.0 Command: /home/biocbuild/bbs-3.23-bioc/R/bin/R CMD INSTALL BioMVCClass StartedAt: 2025-11-05 15:21:44 -0500 (Wed, 05 Nov 2025) EndedAt: 2025-11-05 15:21:49 -0500 (Wed, 05 Nov 2025) EllapsedTime: 5.0 seconds RetCode: 0 Status: OK