Package: BioCor Version: 1.33.1 Command: /home/biocbuild/bbs-3.22-bioc/R/bin/R CMD INSTALL BioCor StartedAt: 2025-10-06 15:30:06 -0400 (Mon, 06 Oct 2025) EndedAt: 2025-10-06 15:30:24 -0400 (Mon, 06 Oct 2025) EllapsedTime: 18.8 seconds RetCode: 0 Status: OK