Package: BioCor Version: 1.33.1 Command: /home/biocbuild/bbs-3.22-bioc/R/bin/R CMD build --keep-empty-dirs --no-resave-data --md5 BioCor StartedAt: 2025-10-05 16:26:38 -0400 (Sun, 05 Oct 2025) EndedAt: 2025-10-05 16:29:35 -0400 (Sun, 05 Oct 2025) EllapsedTime: 176.3 seconds RetCode: 0 Status: OK PackageFile: BioCor_1.33.1.tar.gz PackageFileSize: 1.669 MiB