Package: BiSeq Version: 1.49.1 Command: /home/biocbuild/bbs-3.22-bioc/R/bin/R CMD INSTALL BiSeq StartedAt: 2025-10-05 15:28:37 -0400 (Sun, 05 Oct 2025) EndedAt: 2025-10-05 15:29:17 -0400 (Sun, 05 Oct 2025) EllapsedTime: 40.6 seconds RetCode: 0 Status: OK