Package: BiSeq Version: 1.49.1 Command: /home/biocbuild/bbs-3.22-bioc/R/bin/R CMD build --keep-empty-dirs --no-resave-data --md5 BiSeq StartedAt: 2025-10-05 16:29:43 -0400 (Sun, 05 Oct 2025) EndedAt: 2025-10-05 16:31:36 -0400 (Sun, 05 Oct 2025) EllapsedTime: 113.1 seconds RetCode: 0 Status: OK PackageFile: BiSeq_1.49.1.tar.gz PackageFileSize: 917.3 KiB