Package: BatchSVG Version: 1.3.0 Command: /Library/Frameworks/R.framework/Resources/bin/R CMD INSTALL BatchSVG StartedAt: 2025-11-21 15:28:25 -0500 (Fri, 21 Nov 2025) EndedAt: 2025-11-21 15:28:36 -0500 (Fri, 21 Nov 2025) EllapsedTime: 11.3 seconds RetCode: 0 Status: OK