Package: BatchSVG Version: 1.3.0 Command: /Library/Frameworks/R.framework/Resources/bin/R CMD build --keep-empty-dirs --no-resave-data BatchSVG StartedAt: 2025-11-21 15:41:54 -0500 (Fri, 21 Nov 2025) EndedAt: 2025-11-21 15:43:02 -0500 (Fri, 21 Nov 2025) EllapsedTime: 67.7 seconds RetCode: 0 Status: OK PackageFile: BatchSVG_1.3.0.tar.gz PackageFileSize: 1.695 MiB