Package: BatchSVG Version: 1.3.0 Command: rm -rf BatchSVG.buildbin-libdir && mkdir BatchSVG.buildbin-libdir && /Users/biocbuild/BBS/utils/build-universal.sh BatchSVG_1.3.0.tar.gz /Library/Frameworks/R.framework/Resources/bin/R BatchSVG.buildbin-libdir StartedAt: 2025-11-21 23:23:09 -0500 (Fri, 21 Nov 2025) EndedAt: 2025-11-21 23:23:23 -0500 (Fri, 21 Nov 2025) EllapsedTime: 14.2 seconds RetCode: 0 Status: OK PackageFile: BatchSVG_1.3.0.tgz PackageFileSize: 1.72 MiB