Package: BatchQC Version: 2.5.14 Command: /home/biocbuild/bbs-3.22-bioc/R/bin/R CMD INSTALL BatchQC StartedAt: 2025-10-17 15:53:20 -0400 (Fri, 17 Oct 2025) EndedAt: 2025-10-17 15:53:58 -0400 (Fri, 17 Oct 2025) EllapsedTime: 37.8 seconds RetCode: 0 Status: OK