Package: BatchQC Version: 2.5.14 Command: /home/biocbuild/bbs-3.22-bioc/R/bin/R CMD build --keep-empty-dirs --no-resave-data --md5 BatchQC StartedAt: 2025-10-17 16:19:44 -0400 (Fri, 17 Oct 2025) EndedAt: 2025-10-17 16:25:48 -0400 (Fri, 17 Oct 2025) EllapsedTime: 364.2 seconds RetCode: 0 Status: OK PackageFile: BatchQC_2.5.14.tar.gz PackageFileSize: 4.147 MiB