Package: BasicSTARRseq Version: 1.39.0 Command: /Library/Frameworks/R.framework/Resources/bin/R CMD build --keep-empty-dirs --no-resave-data BasicSTARRseq StartedAt: 2025-11-20 16:09:16 -0500 (Thu, 20 Nov 2025) EndedAt: 2025-11-20 16:10:02 -0500 (Thu, 20 Nov 2025) EllapsedTime: 45.7 seconds RetCode: 0 Status: OK PackageFile: BasicSTARRseq_1.39.0.tar.gz PackageFileSize: 551.3 KiB