Package: BasicSTARRseq Version: 1.39.0 Command: /Library/Frameworks/R.framework/Resources/bin/R CMD build --keep-empty-dirs --no-resave-data BasicSTARRseq StartedAt: 2025-11-13 15:44:55 -0500 (Thu, 13 Nov 2025) EndedAt: 2025-11-13 15:45:13 -0500 (Thu, 13 Nov 2025) EllapsedTime: 18.2 seconds RetCode: 0 Status: OK PackageFile: BasicSTARRseq_1.39.0.tar.gz PackageFileSize: 551.9 KiB