Package: Basic4Cseq Version: 1.47.0 Command: /Library/Frameworks/R.framework/Resources/bin/R CMD build --keep-empty-dirs --no-resave-data Basic4Cseq StartedAt: 2025-11-20 15:41:30 -0500 (Thu, 20 Nov 2025) EndedAt: 2025-11-20 15:41:55 -0500 (Thu, 20 Nov 2025) EllapsedTime: 25.3 seconds RetCode: 0 Status: OK PackageFile: Basic4Cseq_1.47.0.tar.gz PackageFileSize: 384.5 KiB