Package: Basic4Cseq Version: 1.47.0 Command: rm -rf Basic4Cseq.buildbin-libdir && mkdir Basic4Cseq.buildbin-libdir && /Users/biocbuild/BBS/utils/build-universal.sh Basic4Cseq_1.47.0.tar.gz /Library/Frameworks/R.framework/Resources/bin/R Basic4Cseq.buildbin-libdir StartedAt: 2025-11-20 23:24:10 -0500 (Thu, 20 Nov 2025) EndedAt: 2025-11-20 23:24:28 -0500 (Thu, 20 Nov 2025) EllapsedTime: 18.4 seconds RetCode: 0 Status: OK PackageFile: Basic4Cseq_1.47.0.tgz PackageFileSize: 777.1 KiB