Package: BOBaFIT Version: 1.13.0 Command: /home/biocbuild/bbs-3.22-bioc/R/bin/R CMD INSTALL BOBaFIT StartedAt: 2025-10-07 15:47:14 -0400 (Tue, 07 Oct 2025) EndedAt: 2025-10-07 15:48:04 -0400 (Tue, 07 Oct 2025) EllapsedTime: 49.5 seconds RetCode: 0 Status: OK