Package: BLMA Version: 1.33.0 Command: /home/biocbuild/bbs-3.22-bioc/R/bin/R CMD INSTALL BLMA StartedAt: 2025-10-06 15:29:25 -0400 (Mon, 06 Oct 2025) EndedAt: 2025-10-06 15:29:45 -0400 (Mon, 06 Oct 2025) EllapsedTime: 19.7 seconds RetCode: 0 Status: OK