Package: BASiCS Version: 2.23.0 Command: /Library/Frameworks/R.framework/Resources/bin/R CMD INSTALL BASiCS StartedAt: 2025-11-21 15:28:39 -0500 (Fri, 21 Nov 2025) EndedAt: 2025-11-21 15:29:03 -0500 (Fri, 21 Nov 2025) EllapsedTime: 24.6 seconds RetCode: 0 Status: OK