Package: BASiCS Version: 2.23.0 Command: rm -rf BASiCS.buildbin-libdir && mkdir BASiCS.buildbin-libdir && /Users/biocbuild/BBS/utils/build-universal.sh BASiCS_2.23.0.tar.gz /Library/Frameworks/R.framework/Resources/bin/R BASiCS.buildbin-libdir StartedAt: 2025-11-21 23:23:01 -0500 (Fri, 21 Nov 2025) EndedAt: 2025-11-21 23:23:33 -0500 (Fri, 21 Nov 2025) EllapsedTime: 31.9 seconds RetCode: 0 Status: OK PackageFile: BASiCS_2.23.0.tgz PackageFileSize: 3.874 MiB