Package: AssessORF Version: 1.27.0 Command: /home/biocbuild/bbs-3.22-bioc/R/bin/R CMD build --keep-empty-dirs --no-resave-data --md5 AssessORF StartedAt: 2025-10-03 16:12:24 -0400 (Fri, 03 Oct 2025) EndedAt: 2025-10-03 16:13:02 -0400 (Fri, 03 Oct 2025) EllapsedTime: 38.0 seconds RetCode: 0 Status: OK PackageFile: AssessORF_1.27.0.tar.gz PackageFileSize: 4.704 MiB