Package: ArrayExpress Version: 1.71.0 Command: /home/biocbuild/bbs-3.23-bioc/R/bin/R CMD build --keep-empty-dirs --no-resave-data ArrayExpress StartedAt: 2025-11-07 16:12:11 -0500 (Fri, 07 Nov 2025) EndedAt: 2025-11-07 16:14:35 -0500 (Fri, 07 Nov 2025) EllapsedTime: 144.1 seconds RetCode: 0 Status: OK PackageFile: ArrayExpress_1.71.0.tar.gz PackageFileSize: 136.8 KiB