Package: AnnotationHubData Version: 1.41.0 Command: /Library/Frameworks/R.framework/Resources/bin/R CMD INSTALL AnnotationHubData StartedAt: 2025-11-21 15:40:10 -0500 (Fri, 21 Nov 2025) EndedAt: 2025-11-21 15:41:07 -0500 (Fri, 21 Nov 2025) EllapsedTime: 57.5 seconds RetCode: 0 Status: OK