Package: AnnotationHubData Version: 1.41.0 Command: rm -rf AnnotationHubData.buildbin-libdir && mkdir AnnotationHubData.buildbin-libdir && /Users/biocbuild/BBS/utils/build-universal.sh AnnotationHubData_1.41.0.tar.gz /Library/Frameworks/R.framework/Resources/bin/R AnnotationHubData.buildbin-libdir StartedAt: 2025-11-22 01:21:51 -0500 (Sat, 22 Nov 2025) EndedAt: 2025-11-22 01:22:54 -0500 (Sat, 22 Nov 2025) EllapsedTime: 63.5 seconds RetCode: 0 Status: OK PackageFile: AnnotationHubData_1.41.0.tgz PackageFileSize: 930.4 KiB