Package: AnnotationHubData Version: 1.41.0 Command: /Library/Frameworks/R.framework/Resources/bin/R CMD build --keep-empty-dirs --no-resave-data AnnotationHubData StartedAt: 2025-11-19 15:38:44 -0500 (Wed, 19 Nov 2025) EndedAt: 2025-11-19 15:39:02 -0500 (Wed, 19 Nov 2025) EllapsedTime: 18.2 seconds RetCode: 0 Status: OK PackageFile: AnnotationHubData_1.41.0.tar.gz PackageFileSize: 400.3 KiB