Package: AnnotationDbi Version: 1.73.0 Command: /home/biocbuild/bbs-3.23-bioc/R/bin/R CMD INSTALL AnnotationDbi StartedAt: 2025-11-25 15:25:37 -0500 (Tue, 25 Nov 2025) EndedAt: 2025-11-25 15:25:57 -0500 (Tue, 25 Nov 2025) EllapsedTime: 19.8 seconds RetCode: 0 Status: OK