Package: AnnotationDbi Version: 1.73.0 Command: /home/biocbuild/bbs-3.23-bioc/R/bin/R CMD build --keep-empty-dirs --no-resave-data AnnotationDbi StartedAt: 2025-11-26 16:11:47 -0500 (Wed, 26 Nov 2025) EndedAt: 2025-11-26 16:12:40 -0500 (Wed, 26 Nov 2025) EllapsedTime: 53.1 seconds RetCode: 0 Status: OK PackageFile: AnnotationDbi_1.73.0.tar.gz PackageFileSize: 4.172 MiB