Package: AnnotationDbi Version: 1.73.0 Command: /Library/Frameworks/R.framework/Resources/bin/R CMD INSTALL AnnotationDbi StartedAt: 2025-11-20 15:23:09 -0500 (Thu, 20 Nov 2025) EndedAt: 2025-11-20 15:23:41 -0500 (Thu, 20 Nov 2025) EllapsedTime: 31.3 seconds RetCode: 0 Status: OK