Package: AnnotationDbi Version: 1.73.0 Command: rm -rf AnnotationDbi.buildbin-libdir && mkdir AnnotationDbi.buildbin-libdir && /Users/biocbuild/BBS/utils/build-universal.sh AnnotationDbi_1.73.0.tar.gz /Library/Frameworks/R.framework/Resources/bin/R AnnotationDbi.buildbin-libdir StartedAt: 2025-11-21 01:21:16 -0500 (Fri, 21 Nov 2025) EndedAt: 2025-11-21 01:21:49 -0500 (Fri, 21 Nov 2025) EllapsedTime: 33.4 seconds RetCode: 0 Status: OK PackageFile: AnnotationDbi_1.73.0.tgz PackageFileSize: 4.968 MiB