Package: AWAggregator Version: 1.1.0 Command: /Library/Frameworks/R.framework/Resources/bin/R CMD build --keep-empty-dirs --no-resave-data AWAggregator StartedAt: 2025-11-27 16:05:42 -0500 (Thu, 27 Nov 2025) EndedAt: 2025-11-27 16:13:51 -0500 (Thu, 27 Nov 2025) EllapsedTime: 489.1 seconds RetCode: 0 Status: OK PackageFile: AWAggregator_1.1.0.tar.gz PackageFileSize: 273.5 KiB