Package: AWAggregator Version: 1.1.0 Command: /Library/Frameworks/R.framework/Resources/bin/R CMD build --keep-empty-dirs --no-resave-data AWAggregator StartedAt: 2025-11-19 15:40:59 -0500 (Wed, 19 Nov 2025) EndedAt: 2025-11-19 15:43:08 -0500 (Wed, 19 Nov 2025) EllapsedTime: 129.4 seconds RetCode: 0 Status: OK PackageFile: AWAggregator_1.1.0.tar.gz PackageFileSize: 273.8 KiB