Package: ASEB Version: 1.53.0 Command: /home/biocbuild/bbs-3.22-bioc/R/bin/R CMD INSTALL ASEB StartedAt: 2025-10-17 15:01:39 -0400 (Fri, 17 Oct 2025) EndedAt: 2025-10-17 15:01:47 -0400 (Fri, 17 Oct 2025) EllapsedTime: 8.2 seconds RetCode: 0 Status: OK