Package: APL Version: 1.13.0 Command: /home/biocbuild/bbs-3.22-bioc/R/bin/R CMD INSTALL APL StartedAt: 2025-10-07 15:44:31 -0400 (Tue, 07 Oct 2025) EndedAt: 2025-10-07 15:45:12 -0400 (Tue, 07 Oct 2025) EllapsedTime: 40.5 seconds RetCode: 0 Status: OK