Package: APL Version: 1.13.0 Command: /home/biocbuild/bbs-3.22-bioc/R/bin/R CMD build --keep-empty-dirs --no-resave-data --md5 APL StartedAt: 2025-10-07 16:12:23 -0400 (Tue, 07 Oct 2025) EndedAt: 2025-10-07 16:15:56 -0400 (Tue, 07 Oct 2025) EllapsedTime: 213.2 seconds RetCode: 0 Status: OK PackageFile: APL_1.13.0.tar.gz PackageFileSize: 2.331 MiB