Package: AIMS Version: 1.41.0 Command: /home/biocbuild/bbs-3.22-bioc/R/bin/R CMD INSTALL AIMS StartedAt: 2025-10-22 15:12:48 -0400 (Wed, 22 Oct 2025) EndedAt: 2025-10-22 15:12:51 -0400 (Wed, 22 Oct 2025) EllapsedTime: 3.0 seconds RetCode: 0 Status: OK