Package: AIMS Version: 1.41.0 Command: /home/biocbuild/bbs-3.22-bioc/R/bin/R CMD build --keep-empty-dirs --no-resave-data --md5 AIMS StartedAt: 2025-10-22 16:09:12 -0400 (Wed, 22 Oct 2025) EndedAt: 2025-10-22 16:09:26 -0400 (Wed, 22 Oct 2025) EllapsedTime: 14.0 seconds RetCode: 0 Status: OK PackageFile: AIMS_1.41.0.tar.gz PackageFileSize: 486 KiB