Package: ADaCGH2 Version: 2.49.0 Command: /home/biocbuild/bbs-3.22-bioc/R/bin/R CMD INSTALL ADaCGH2 StartedAt: 2025-09-30 15:54:27 -0400 (Tue, 30 Sep 2025) EndedAt: 2025-09-30 15:54:50 -0400 (Tue, 30 Sep 2025) EllapsedTime: 22.9 seconds RetCode: 0 Status: OK