Package: ADAMgui Version: 1.25.0 Command: /home/biocbuild/bbs-3.22-bioc/R/bin/R CMD INSTALL ADAMgui StartedAt: 2025-10-03 15:40:58 -0400 (Fri, 03 Oct 2025) EndedAt: 2025-10-03 15:41:27 -0400 (Fri, 03 Oct 2025) EllapsedTime: 29.0 seconds RetCode: 0 Status: OK