Package: ADAM Version: 1.25.0 Command: /home/biocbuild/bbs-3.22-bioc/R/bin/R CMD INSTALL ADAM StartedAt: 2025-10-03 15:37:58 -0400 (Fri, 03 Oct 2025) EndedAt: 2025-10-03 15:38:30 -0400 (Fri, 03 Oct 2025) EllapsedTime: 32.2 seconds RetCode: 0 Status: OK