Package: ACE Version: 1.27.0 Command: /home/biocbuild/bbs-3.22-bioc/R/bin/R CMD INSTALL ACE StartedAt: 2025-10-10 15:28:37 -0400 (Fri, 10 Oct 2025) EndedAt: 2025-10-10 15:28:55 -0400 (Fri, 10 Oct 2025) EllapsedTime: 18.4 seconds RetCode: 0 Status: OK