Welcome to mirrors.dotsrc.org

All our mirrors of open source software are available via http, https, ftp and an onion service. More information about our mirrors including statistics and contact information is available on our mirror info pages.

For information about dotsrc.org and our other services please go to our website.

Index of /bioconductor/checkResults/devel/bioc-LATEST/

File Name  ↓ File Size  ↓ Date  ↓ 
--
-2025-11-14 16:36:15
-2025-11-14 16:36:15
-2025-11-14 16:36:15
-2025-11-14 16:36:15
-2025-11-14 16:36:15
-2025-11-14 16:36:15
-2025-11-14 16:36:15
-2025-11-14 16:36:15
-2025-11-14 16:36:15
-2025-11-14 16:36:15
-2025-11-14 16:36:15
-2025-11-14 16:36:15
-2025-11-14 16:36:16
-2025-11-14 16:36:16
-2025-11-14 16:36:16
-2025-11-14 16:36:16
-2025-11-14 16:36:16
-2025-11-14 16:36:16
-2025-11-14 16:36:16
-2025-11-14 16:36:16
-2025-11-14 16:36:16
-2025-11-14 16:36:16
-2025-11-14 16:36:16
-2025-11-14 16:36:16
-2025-11-14 16:36:16
-2025-11-14 16:36:16
-2025-11-14 16:36:16
-2025-11-14 16:36:16
-2025-11-14 16:36:16
-2025-11-14 16:36:16
-2025-11-14 16:36:17
-2025-11-14 16:36:17
-2025-11-14 16:36:17
-2025-11-14 16:36:15
-2025-11-14 16:36:15
-2025-11-14 16:36:15
-2025-11-14 16:36:16
-2025-11-14 16:36:16
-2025-11-14 16:36:16
-2025-11-14 16:36:16
-2025-11-14 16:36:16
-2025-11-14 16:36:16
-2025-11-14 16:36:16
-2025-11-14 16:36:16
-2025-11-14 16:36:16
-2025-11-14 16:36:16
-2025-11-14 16:36:16
-2025-11-14 16:36:16
-2025-11-14 16:36:16
-2025-11-14 16:36:16
-2025-11-14 16:36:16
-2025-11-14 16:36:16
-2025-11-14 16:36:16
-2025-11-14 16:36:16
-2025-11-14 16:36:16
-2025-11-14 16:36:17
-2025-11-14 16:36:17
-2025-11-14 16:36:17
-2025-11-14 16:36:17
-2025-11-14 16:36:17
-2025-11-14 16:36:17
-2025-11-14 16:36:17
-2025-11-14 16:36:17
-2025-11-14 16:36:17
-2025-11-14 16:36:17
-2025-11-14 16:36:17
-2025-11-14 16:36:18
-2025-11-14 16:36:18
-2025-11-14 16:36:19
-2025-11-14 16:36:19
-2025-11-14 16:36:19
-2025-11-14 16:36:19
-2025-11-14 16:36:19
-2025-11-14 16:36:19
-2025-11-14 16:36:19
-2025-11-14 16:36:19
-2025-11-14 16:36:19
-2025-11-14 16:36:19
-2025-11-14 16:36:17
-2025-11-14 16:36:17
-2025-11-14 16:36:17
-2025-11-14 16:36:17
-2025-11-14 16:36:17
-2025-11-14 16:36:17
-2025-11-14 16:36:17
-2025-11-14 16:36:17
-2025-11-14 16:36:17
-2025-11-14 16:36:17
-2025-11-14 16:36:17
-2025-11-14 16:36:17
-2025-11-14 16:36:17
-2025-11-14 16:36:17
-2025-10-23 15:30:18
-2025-11-14 16:36:18
-2025-11-14 16:36:18
-2025-11-14 16:36:17
-2025-11-14 16:36:17
-2025-11-14 16:36:18
-2025-11-14 16:36:18
-2025-11-14 16:36:18
-2025-11-14 16:36:18
-2025-11-14 16:36:18
-2025-11-14 16:36:18
-2025-11-14 16:36:18
-2025-11-14 16:36:18
-2025-11-14 16:36:18
-2025-11-14 16:36:18
-2025-11-14 16:36:18
-2025-11-14 16:36:18
-2025-11-14 16:36:18
-2025-11-14 16:36:18
-2025-11-14 16:36:18
-2025-11-14 16:36:18
-2025-11-14 16:36:18
-2025-11-14 16:35:40
-2025-11-14 16:36:18
-2025-11-14 16:36:18
-2025-11-14 16:36:18
-2025-11-14 16:36:18
-2025-11-14 16:36:18
-2025-11-14 16:36:18
-2025-11-14 16:36:18
-2025-11-14 16:36:18
-2025-11-14 16:36:18
-2025-11-14 16:36:18
-2025-11-14 16:36:18
-2025-11-14 16:36:18
-2025-11-14 16:36:18
-2025-11-14 16:36:19
-2025-11-14 16:36:19
-2025-11-14 16:36:19
-2025-11-14 16:36:19
-2025-11-14 16:36:19
-2025-11-14 16:36:19
-2025-11-14 16:36:19
-2025-11-14 16:36:19
-2025-11-14 16:36:19
-2025-11-14 16:36:19
-2025-11-14 16:36:19
-2025-11-14 16:36:19
-2025-11-14 16:36:19
-2025-11-14 16:36:19
-2025-11-14 16:36:19
-2025-11-14 16:36:19
-2025-11-14 16:35:18
-2025-11-14 16:36:19
-2025-11-14 16:36:19
-2025-11-14 16:36:19
-2025-11-14 16:36:19
-2025-11-14 16:36:19
-2025-11-14 16:36:20
-2025-11-14 16:36:20
-2025-11-14 16:36:20
-2025-11-14 16:36:20
-2025-11-14 16:36:20
-2025-11-14 16:36:20
-2025-11-14 16:36:20
-2025-11-14 16:36:20
-2025-11-14 16:36:20
-2025-11-14 16:36:20
-2025-10-23 15:30:19
-2025-11-14 16:36:21
-2025-11-14 16:36:21
-2025-11-14 16:36:21
-2025-11-14 16:36:21
-2025-11-14 16:36:21
-2025-11-14 16:36:21
-2025-11-14 16:36:21
-2025-11-14 16:36:21
-2025-11-14 16:36:21
-2025-11-14 16:36:21
-2025-11-14 16:36:21
-2025-11-14 16:36:21
-2025-11-14 16:36:21
-2025-11-14 16:36:21
-2025-11-14 16:36:21
-2025-11-14 16:36:21
-2025-11-14 16:36:21
-2025-11-14 16:36:22
-2025-11-14 16:36:22
-2025-11-14 16:36:22
-2025-11-14 16:36:22
-2025-11-14 16:36:22
-2025-11-14 16:36:22
-2025-11-14 16:36:22
-2025-11-14 16:36:22
-2025-11-14 16:36:22
-2025-11-14 16:36:22
-2025-11-14 16:36:22
-2025-11-14 16:36:22
-2025-11-14 16:36:22
-2025-11-14 16:36:22
-2025-11-14 16:36:22
-2025-11-14 16:36:19
-2025-11-14 16:36:19
-2025-11-14 16:36:19
-2025-11-14 16:36:19
-2025-11-14 16:36:19
-2025-11-14 16:36:19
-2025-11-14 16:36:19
-2025-11-14 16:36:19
-2025-11-14 16:36:20
-2025-11-14 16:36:19
-2025-11-14 16:36:20
-2025-11-14 16:36:20
-2025-11-14 16:36:20
-2025-11-14 16:36:20
-2025-10-23 15:30:19
-2025-11-14 16:36:20
-2025-11-14 16:36:20
-2025-11-14 16:36:20
-2025-11-14 16:36:20
-2025-11-14 16:36:20
-2025-11-14 16:36:20
-2025-11-14 16:36:20
-2025-11-14 16:36:20
-2025-11-14 16:36:20
-2025-11-14 16:36:20
-2025-11-14 16:36:20
-2025-11-14 16:36:20
-2025-11-14 16:36:20
-2025-11-14 16:36:20
-2025-11-14 16:36:20
-2025-11-14 16:36:20
-2025-11-14 16:36:20
-2025-11-14 16:36:20
-2025-11-14 16:36:20
-2025-11-14 16:36:20
-2025-11-14 16:36:20
-2025-11-14 16:36:20
-2025-11-14 16:36:20
-2025-11-14 16:36:20
-2025-11-14 16:36:21
-2025-11-14 16:36:21
-2025-11-14 16:36:21
-2025-11-14 16:36:21
-2025-11-14 16:36:21
-2025-11-14 16:36:21
-2025-11-14 16:36:21
-2025-11-14 16:36:21
-2025-11-14 16:36:21
-2025-11-14 16:36:22
-2025-11-14 16:36:21
-2025-11-14 16:36:21
-2025-11-14 16:36:21
-2025-11-14 16:36:21
-2025-11-14 16:36:22
-2025-11-14 16:36:22
-2025-11-14 16:36:22
-2025-11-14 16:36:22
-2025-11-14 16:36:22
-2025-11-14 16:36:22
-2025-11-14 16:36:22
-2025-11-14 16:36:22
-2025-11-14 16:36:23
-2025-11-14 16:36:23
-2025-11-14 16:36:23
-2025-11-14 16:36:23
-2025-11-14 16:36:23
-2025-11-14 16:36:23
-2025-11-14 16:36:23
-2025-11-14 16:36:23
-2025-11-14 16:36:23
-2025-11-14 16:36:23
-2025-11-14 16:36:23
-2025-11-14 16:36:23
-2025-11-14 16:36:23
-2025-11-14 16:35:46
-2025-11-14 16:36:23
-2025-11-14 16:36:23
-2025-11-14 16:36:23
-2025-10-23 15:30:20
-2025-11-14 16:36:24
-2025-11-14 16:36:24
-2025-11-14 16:36:24
-2025-11-14 16:36:24
-2025-11-14 16:36:24
-2025-11-14 16:36:24
-2025-11-14 16:36:24
-2025-11-14 16:36:24
-2025-11-14 16:36:24
-2025-11-14 16:36:24
-2025-11-14 16:36:24
-2025-11-14 16:36:24
-2025-11-14 16:36:24
-2025-11-14 16:36:24
-2025-11-14 16:36:24
-2025-11-14 16:36:24
-2025-11-14 16:36:24
-2025-11-14 16:36:24
-2025-11-14 16:36:24
-2025-11-14 16:36:24
-2025-11-14 16:36:24
-2025-11-14 16:36:24
-2025-11-14 16:36:24
-2025-11-14 16:36:25
-2025-11-14 16:36:25
-2025-11-14 16:36:25
-2025-11-14 16:36:25
-2025-11-14 16:36:25
-2025-11-14 16:36:23
-2025-11-14 16:36:23
-2025-11-14 16:36:23
-2025-11-14 16:36:23
-2025-11-14 16:36:23
-2025-11-14 16:36:23
-2025-11-14 16:36:23
-2025-11-14 16:36:23
-2025-11-14 16:36:23
-2025-11-14 16:36:23
-2025-11-14 16:36:23
-2025-11-14 16:36:23
-2025-11-14 16:36:23
-2025-11-14 16:36:23
-2025-11-14 16:36:23
-2025-11-14 16:36:23
-2025-11-14 16:36:24
-2025-11-14 16:36:24
-2025-11-14 16:36:24
-2025-11-14 16:36:24
-2025-11-14 16:36:24
-2025-11-14 16:36:24
-2025-11-14 16:36:24
-2025-11-14 16:36:24
-2025-11-14 16:36:24
-2025-11-14 16:36:25
-2025-11-14 16:36:25
-2025-11-14 16:36:25
-2025-11-14 16:36:25
-2025-11-14 16:36:25
-2025-11-14 16:36:25
-2025-11-14 16:36:25
-2025-11-14 16:36:25
-2025-11-14 16:36:25
-2025-11-14 16:36:25
-2025-11-14 16:36:25
-2025-11-14 16:36:25
-2025-11-14 16:36:25
-2025-11-14 16:36:25
-2025-11-14 16:36:25
-2025-11-14 16:36:25
-2025-11-14 16:36:25
-2025-11-14 16:36:25
-2025-11-14 16:36:25
-2025-11-14 16:36:25
-2025-11-14 16:36:25
-2025-11-14 16:36:26
-2025-11-14 16:36:26
-2025-11-14 16:36:25
-2025-11-14 16:36:25
-2025-11-14 16:36:25
-2025-11-14 16:36:25
-2025-11-14 16:36:25
-2025-11-14 16:36:25
-2025-11-14 16:36:25
-2025-11-14 16:36:25
-2025-11-14 16:36:26
-2025-11-14 16:36:26
-2025-11-14 16:36:26
-2025-11-14 16:36:26
-2025-11-14 16:36:26
-2025-11-14 16:36:26
-2025-11-14 16:36:26
-2025-11-14 16:36:26
-2025-11-14 16:36:26
-2025-11-14 16:36:26
-2025-11-14 16:36:26
-2025-11-14 16:36:26
-2025-11-14 16:36:26
-2025-11-14 16:36:26
-2025-11-14 16:36:26
-2025-11-14 16:36:27
-2025-11-14 16:36:27
-2025-11-14 16:36:27
-2025-11-14 16:36:27
-2025-11-14 16:36:26
-2025-11-14 16:36:26
-2025-11-14 16:36:26
-2025-11-14 16:36:26
-2025-11-14 16:36:27
-2025-11-14 16:36:27
-2025-11-14 16:36:27
-2025-11-14 16:36:27
-2025-11-14 16:36:27
-2025-11-14 16:36:27
-2025-11-14 16:36:27
-2025-11-14 16:36:27
-2025-11-14 16:36:27
-2025-11-14 16:36:27
-2025-11-14 16:36:28
-2025-11-14 16:36:28
-2025-11-14 16:36:28
-2025-11-14 16:36:28
-2025-11-14 16:36:28
-2025-11-14 16:36:28
-2025-11-14 16:36:28
-2025-11-14 16:36:29
-2025-11-14 16:36:29
-2025-11-14 16:36:29
-2025-11-14 16:36:29
-2025-11-14 16:36:29
-2025-11-14 16:36:29
-2025-11-14 16:36:29
-2025-11-14 16:36:29
-2025-11-14 16:36:29
-2025-11-14 16:36:29
-2025-11-14 16:36:29
-2025-11-14 16:36:29
-2025-11-14 16:36:30
-2025-11-14 16:36:30
-2025-11-14 16:36:29
-2025-11-14 16:36:30
-2025-11-14 16:36:30
-2025-11-14 16:36:30
-2025-11-14 16:36:30
-2025-11-14 16:36:30
-2025-11-14 16:36:30
-2025-11-14 16:36:30
-2025-11-14 16:36:30
-2025-11-14 16:36:30
-2025-11-14 16:36:30
-2025-11-14 16:36:30
-2025-11-14 16:36:30
-2025-11-14 16:36:30
-2025-11-14 16:36:30
-2025-11-14 16:36:30
-2025-11-14 16:36:30
-2025-11-14 16:36:30
-2025-11-14 16:36:30
-2025-11-14 16:36:30
-2025-11-14 16:36:30
-2025-11-14 16:36:30
-2025-11-14 16:36:30
-2025-11-14 16:36:27
-2025-11-14 16:36:28
-2025-11-14 16:36:29
-2025-11-14 16:36:29
-2025-11-14 16:36:28
-2025-11-14 16:36:28
-2025-11-14 16:36:28
-2025-11-14 16:36:28
-2025-11-14 16:36:28
-2025-11-14 16:36:28
-2025-11-14 16:36:28
-2025-11-14 16:36:28
-2025-11-14 16:36:28
-2025-11-14 16:36:28
-2025-11-14 16:36:28
-2025-11-14 16:36:28
-2025-11-14 16:36:28
-2025-11-14 16:36:28
-2025-11-14 16:36:28
-2025-11-14 16:36:28
-2025-11-14 16:36:28
-2025-11-14 16:36:28
-2025-11-14 16:36:28
-2025-11-14 16:36:28
-2025-11-14 16:36:28
-2025-11-14 16:36:29
-2025-11-14 16:36:29
-2025-11-14 16:36:29
-2025-11-14 16:36:29
-2025-11-14 16:36:29
-2025-11-14 16:36:29
-2025-11-14 16:36:29
-2025-11-14 16:36:29
-2025-11-14 16:36:29
-2025-11-14 16:36:29
-2025-11-14 16:36:29
-2025-11-14 16:36:29
-2025-11-14 16:36:29
-2025-11-14 16:36:30
-2025-11-14 16:36:30
-2025-11-14 16:36:30
-2025-11-14 16:36:30
-2025-11-14 16:36:30
-2025-11-14 16:36:30
-2025-11-14 16:36:30
-2025-11-14 16:36:30
-2025-11-14 16:36:31
-2025-11-14 16:36:31
-2025-11-14 16:36:31
-2025-11-14 16:36:31
-2025-11-14 16:36:31
-2025-11-14 16:36:31
-2025-11-14 16:36:31
-2025-11-14 16:36:31
-2025-11-14 16:36:31
-2025-11-14 16:36:31
-2025-11-14 16:36:31
-2025-11-14 16:36:31
-2025-11-14 16:36:31
-2025-11-14 16:36:30
-2025-11-14 16:36:30
-2025-10-23 15:30:22
-2025-11-14 16:36:31
-2025-11-14 16:36:31
-2025-11-14 16:36:31
-2025-11-14 16:36:31
-2025-11-14 16:36:31
-2025-11-14 16:36:31
-2025-11-14 16:36:31
-2025-11-14 16:36:31
-2025-11-14 16:36:31
-2025-11-14 16:36:31
-2025-11-14 16:36:31
-2025-11-14 16:36:31
-2025-11-14 16:36:31
-2025-11-14 16:36:31
-2025-11-14 16:36:31
-2025-11-14 16:36:31
-2025-11-14 16:36:31
-2025-11-14 16:36:31
-2025-11-14 16:35:52
-2025-11-14 16:36:31
-2025-11-14 16:36:31
-2025-11-14 16:36:31
-2025-11-14 16:36:31
-2025-11-14 16:36:31
-2025-11-14 16:36:32
-2025-11-14 16:36:32
-2025-11-14 16:36:32
-2025-11-14 16:36:32
-2025-11-14 16:36:32
-2025-11-14 16:36:32
-2025-11-14 16:36:32
-2025-11-14 16:36:32
-2025-11-14 16:36:32
-2025-11-14 16:36:32
-2025-11-14 16:36:32
-2025-11-14 16:36:32
-2025-11-14 16:36:32
-2025-11-14 16:36:33
-2025-11-14 16:36:33
-2025-11-14 16:36:33
-2025-11-14 16:36:33
-2025-11-14 16:36:33
-2025-11-14 16:36:33
-2025-11-14 16:36:31
-2025-11-14 16:36:31
-2025-11-14 16:36:32
-2025-11-14 16:36:32
-2025-11-14 16:36:32
-2025-11-14 16:36:32
-2025-11-14 16:36:32
-2025-11-14 16:36:32
-2025-11-14 16:36:32
-2025-11-14 16:36:32
-2025-11-14 16:36:32
-2025-11-14 16:36:32
-2025-11-14 16:36:33
-2025-11-14 16:36:33
-2025-11-14 16:36:33
-2025-11-14 16:36:33
-2025-11-14 16:36:33
-2025-11-14 16:36:33
-2025-11-14 16:36:33
-2025-11-14 16:36:33
-2025-11-14 16:36:33
-2025-11-14 16:36:33
-2025-11-14 16:36:33
-2025-11-14 16:36:33
-2025-11-14 16:36:33
-2025-11-14 16:36:33
-2025-11-14 16:36:33
-2025-11-14 16:36:34
-2025-11-14 16:36:34
-2025-11-14 16:36:34
-2025-11-14 16:36:34
-2025-11-14 16:36:34
-2025-11-14 16:36:33
-2025-11-14 16:36:34
-2025-11-14 16:36:34
-2025-10-23 15:30:23
-2025-11-14 16:36:34
-2025-11-14 16:36:34
-2025-11-14 16:36:34
-2025-11-14 16:36:34
-2025-11-14 16:36:34
-2025-11-14 16:36:34
-2025-11-14 16:36:34
-2025-11-14 16:36:34
-2025-11-14 16:36:34
-2025-11-14 16:36:34
-2025-10-23 15:30:23
-2025-11-14 16:36:34
-2025-11-14 16:36:34
-2025-11-14 16:36:34
-2025-11-14 16:36:34
-2025-11-14 16:36:34
-2025-11-14 16:36:35
-2025-11-14 16:36:35
-2025-11-14 16:36:35
-2025-11-14 16:36:35
-2025-11-14 16:36:35
-2025-11-14 16:36:35
-2025-11-14 16:36:35
-2025-11-14 16:36:35
-2025-11-14 16:36:35
-2025-11-14 16:36:35
-2025-11-14 16:36:35
-2025-11-14 16:36:35
-2025-11-14 16:36:35
-2025-11-14 16:36:35
-2025-11-14 16:36:35
-2025-11-14 16:36:36
-2025-11-14 16:36:36
-2025-11-14 16:36:36
-2025-11-14 16:36:37
-2025-11-14 16:36:37
-2025-11-14 16:36:37
-2025-11-14 16:36:37
-2025-11-14 16:36:37
-2025-11-14 16:36:37
-2025-11-14 16:36:37
-2025-11-14 16:36:37
-2025-11-14 16:36:37
-2025-11-14 16:36:37
-2025-11-14 16:36:37
-2025-11-14 16:36:37
-2025-11-14 16:36:38
-2025-11-14 16:36:38
-2025-11-14 16:36:38
-2025-11-14 16:36:38
-2025-11-14 16:36:38
-2025-11-14 16:36:38
-2025-11-14 16:36:38
-2025-11-14 16:36:38
-2025-11-14 16:36:38
-2025-11-14 16:36:38
-2025-11-14 16:36:38
-2025-11-14 16:36:38
-2025-11-14 16:36:38
-2025-11-14 16:36:39
-2025-11-14 16:36:38
-2025-11-14 16:36:39
-2025-11-14 16:36:39
-2025-11-14 16:36:39
-2025-11-14 16:36:39
-2025-11-14 16:36:39
-2025-11-14 16:36:39
-2025-11-14 16:36:39
-2025-11-14 16:36:39
-2025-11-14 16:36:34
-2025-11-14 16:36:34
-2025-11-14 16:36:34
-2025-11-14 16:36:35
-2025-11-14 16:36:35
-2025-11-14 16:36:35
-2025-11-14 16:36:35
-2025-11-14 16:36:35
-2025-11-14 16:36:35
-2025-11-14 16:36:35
-2025-11-14 16:36:35
-2025-11-14 16:36:35
-2025-11-14 16:36:35
-2025-11-14 16:36:36
-2025-11-14 16:36:36
-2025-11-14 16:36:36
-2025-11-14 16:36:36
-2025-11-14 16:36:36
-2025-11-14 16:36:36
-2025-11-14 16:36:36
-2025-11-14 16:36:36
-2025-11-14 16:36:35
-2025-11-14 16:36:35
-2025-11-14 16:36:35
-2025-11-14 16:36:35
-2025-11-14 16:36:36
-2025-11-14 16:36:36
-2025-11-14 16:36:36
-2025-11-14 16:36:36
-2025-11-14 16:36:36
-2025-11-14 16:36:36
-2025-11-14 16:36:36
-2025-11-14 16:36:36
-2025-11-14 16:36:37
-2025-11-14 16:36:37
-2025-11-14 16:36:36
-2025-11-14 16:36:36
-2025-11-14 16:36:37
-2025-11-14 16:36:37
-2025-11-14 16:36:37
-2025-11-14 16:36:37
-2025-11-14 16:36:37
-2025-11-14 16:36:37
-2025-11-14 16:36:37
-2025-11-14 16:36:38
-2025-11-14 16:36:38
-2025-11-14 16:36:38
-2025-11-14 16:36:38
-2025-11-14 16:36:38
-2025-11-14 16:36:38
-2025-11-14 16:36:38
-2025-11-14 16:36:38
-2025-11-14 16:36:38
-2025-11-14 16:36:38
-2025-11-14 16:36:38
-2025-11-14 16:36:38
-2025-11-14 16:36:38
-2025-11-14 16:36:38
-2025-11-14 16:36:38
-2025-11-14 16:36:39
-2025-11-14 16:36:39
-2025-11-14 16:36:39
-2025-11-14 16:36:39
-2025-11-14 16:36:39
-2025-11-14 16:36:39
-2025-11-14 16:36:39
-2025-11-14 16:36:39
-2025-11-14 16:36:39
-2025-11-14 16:36:39
-2025-11-14 16:36:39
-2025-11-14 16:36:39
-2025-11-14 16:35:59
-2025-11-14 16:36:40
-2025-11-14 16:36:40
-2025-11-14 16:36:40
-2025-11-14 16:36:39
-2025-11-14 16:36:39
-2025-11-14 16:36:39
-2025-11-14 16:36:39
-2025-11-14 16:36:39
-2025-11-14 16:36:40
-2025-11-14 16:36:40
-2025-11-14 16:36:40
-2025-11-14 16:36:40
-2025-11-14 16:36:40
-2025-11-14 16:36:40
-2025-11-14 16:36:40
-2025-11-14 16:36:40
-2025-11-14 16:36:40
-2025-11-14 16:36:40
-2025-11-14 16:36:40
-2025-11-14 16:36:40
-2025-11-14 16:36:40
-2025-11-14 16:36:41
-2025-11-14 16:36:41
-2025-11-14 16:36:41
-2025-11-14 16:36:41
-2025-11-14 16:36:41
-2025-11-14 16:36:41
-2025-11-14 16:36:41
-2025-11-14 16:36:41
-2025-11-14 16:36:40
-2025-11-14 16:36:40
-2025-11-14 16:36:40
-2025-11-14 16:36:41
-2025-11-14 16:36:41
-2025-11-14 16:36:41
-2025-11-14 16:36:00
-2025-11-14 16:36:41
-2025-11-14 16:36:41
-2025-11-14 16:36:41
-2025-11-14 16:36:41
-2025-11-14 16:36:41
-2025-11-14 16:36:41
-2025-11-14 16:36:41
-2025-11-14 16:36:41
-2025-11-14 16:36:41
-2025-11-14 16:36:41
-2025-11-14 16:36:41
-2025-11-14 16:36:42
-2025-11-14 16:36:42
-2025-11-14 16:36:42
-2025-11-14 16:36:42
-2025-11-14 16:36:42
-2025-11-14 16:36:42
-2025-11-14 16:36:42
-2025-11-14 16:36:43
-2025-11-14 16:36:43
-2025-11-14 16:36:43
-2025-11-14 16:36:43
-2025-11-14 16:36:43
-2025-11-14 16:36:43
-2025-11-14 16:36:43
-2025-11-14 16:36:43
-2025-11-14 16:36:43
-2025-11-14 16:36:43
-2025-11-14 16:36:43
-2025-11-14 16:36:43
-2025-11-14 16:36:44
-2025-11-14 16:36:44
-2025-11-14 16:36:41
-2025-11-14 16:36:41
-2025-11-14 16:36:42
-2025-11-14 16:36:42
-2025-11-14 16:36:42
-2025-11-14 16:36:42
-2025-11-14 16:36:42
-2025-11-14 16:36:42
-2025-11-14 16:36:42
-2025-11-14 16:36:42
-2025-10-23 15:30:25
-2025-11-14 16:36:42
-2025-11-14 16:36:42
-2025-11-14 16:36:42
-2025-11-14 16:36:42
-2025-11-14 16:36:42
-2025-11-14 16:36:43
-2025-11-14 16:36:43
-2025-11-14 16:36:43
-2025-11-14 16:36:43
-2025-11-14 16:36:43
-2025-11-14 16:36:43
-2025-11-14 16:36:43
-2025-11-14 16:36:43
-2025-11-14 16:36:44
-2025-11-14 16:36:44
-2025-11-14 16:36:44
-2025-11-14 16:36:44
-2025-11-14 16:36:44
-2025-11-14 16:36:44
-2025-11-14 16:36:44
-2025-11-14 16:36:44
-2025-11-14 16:36:44
-2025-11-14 16:36:44
-2025-11-14 16:36:44
-2025-11-14 16:36:03
-2025-11-14 16:36:44
-2025-11-14 16:36:44
-2025-11-14 16:36:44
-2025-11-14 16:36:44
-2025-11-14 16:36:44
-2025-11-14 16:36:45
-2025-11-14 16:36:45
-2025-11-14 16:36:45
-2025-11-14 16:36:45
-2025-11-14 16:36:45
-2025-11-14 16:36:45
-2025-11-14 16:36:45
-2025-11-14 16:36:45
-2025-11-14 16:36:45
-2025-11-14 16:36:45
-2025-11-14 16:36:45
-2025-11-14 16:36:45
-2025-11-14 16:36:45
-2025-11-14 16:36:45
-2025-11-14 16:36:46
-2025-11-14 16:36:46
-2025-11-14 16:36:46
-2025-11-14 16:36:46
-2025-11-14 16:36:46
-2025-11-14 16:36:46
-2025-11-14 16:36:46
-2025-11-14 16:36:46
-2025-11-14 16:36:46
-2025-11-14 16:36:46
-2025-11-14 16:36:46
-2025-11-14 16:36:47
-2025-11-14 16:36:46
-2025-11-14 16:36:46
-2025-11-14 16:36:46
-2025-11-14 16:36:46
-2025-11-14 16:36:46
-2025-11-14 16:36:46
-2025-11-14 16:36:46
-2025-11-14 16:36:47
-2025-11-14 16:36:47
-2025-11-14 16:36:47
-2025-11-14 16:36:47
-2025-11-14 16:36:47
-2025-11-14 16:36:47
-2025-11-14 16:36:47
-2025-11-14 16:36:47
-2025-11-14 16:36:47
-2025-11-14 16:36:47
-2025-11-14 16:36:47
-2025-11-14 16:36:47
-2025-11-14 16:36:47
-2025-11-14 16:36:47
-2025-11-14 16:36:47
-2025-11-14 16:36:47
-2025-11-14 16:36:47
-2025-11-14 16:36:47
-2025-11-14 16:36:47
-2025-11-14 16:36:47
-2025-11-14 16:36:47
-2025-11-14 16:36:47
-2025-11-14 16:36:44
-2025-11-14 16:36:44
-2025-11-14 16:36:44
-2025-11-14 16:36:44
-2025-11-14 16:36:44
-2025-11-14 16:36:44
-2025-11-14 16:36:44
-2025-11-14 16:36:45
-2025-11-14 16:36:45
-2025-11-14 16:35:30
-2025-11-14 16:36:45
-2025-11-14 16:36:45
-2025-11-14 16:36:05
-2025-11-14 16:36:45
-2025-11-14 16:36:45
-2025-11-14 16:36:45
-2025-11-14 16:36:45
-2025-11-14 16:36:46
-2025-11-14 16:36:45
-2025-10-23 15:30:27
-2025-11-14 16:36:45
-2025-11-14 16:36:45
-2025-11-14 16:36:45
-2025-11-14 16:36:45
-2025-11-14 16:36:45
-2025-11-14 16:36:45
-2025-11-14 16:36:45
-2025-11-14 16:36:45
-2025-10-23 15:30:27
-2025-11-14 16:36:45
-2025-11-14 16:36:45
-2025-10-23 15:30:27
-2025-11-14 16:36:46
-2025-11-14 16:36:46
-2025-11-14 16:36:46
-2025-11-14 16:36:46
-2025-11-14 16:36:46
-2025-11-14 16:36:46
-2025-11-14 16:36:46
-2025-11-14 16:36:46
-2025-11-14 16:36:46
-2025-11-14 16:36:46
-2025-11-14 16:36:46
-2025-11-14 16:36:47
-2025-11-14 16:36:47
-2025-11-14 16:36:47
-2025-11-14 16:36:47
-2025-11-14 16:36:47
-2025-11-14 16:36:47
-2025-11-14 16:36:47
-2025-11-14 16:36:47
-2025-11-14 16:36:47
-2025-11-14 16:36:47
-2025-11-14 16:36:47
-2025-11-14 16:36:48
-2025-11-14 16:36:48
-2025-10-23 15:30:27
-2025-11-14 16:36:48
-2025-11-14 16:36:48
-2025-11-14 16:36:48
-2025-11-14 16:36:48
-2025-11-14 16:36:48
-2025-11-14 16:36:48
-2025-11-14 16:36:48
-2025-11-14 16:36:48
-2025-11-14 16:36:48
-2025-11-14 16:36:49
-2025-11-14 16:36:49
-2025-11-14 16:36:49
-2025-11-14 16:36:49
-2025-11-14 16:36:50
-2025-11-14 16:36:50
-2025-11-14 16:36:50
-2025-11-14 16:36:50
-2025-11-14 16:36:50
-2025-11-14 16:36:50
-2025-11-14 16:36:50
-2025-11-14 16:36:50
-2025-11-14 16:36:50
-2025-11-14 16:36:50
-2025-11-14 16:36:50
-2025-11-14 16:36:51
-2025-11-14 16:36:51
-2025-11-14 16:36:51
-2025-11-14 16:36:51
-2025-11-14 16:36:51
-2025-11-14 16:36:51
-2025-11-14 16:36:51
-2025-11-14 16:36:51
-2025-11-14 16:36:52
-2025-11-14 16:36:52
-2025-11-14 16:36:52
-2025-11-14 16:36:52
-2025-11-14 16:36:52
-2025-11-14 16:36:52
-2025-11-14 16:36:52
-2025-11-14 16:36:52
-2025-11-14 16:36:52
-2025-11-14 16:36:52
-2025-11-14 16:36:52
-2025-11-14 16:36:52
-2025-11-14 16:36:53
-2025-11-14 16:36:53
-2025-11-14 16:36:53
-2025-11-14 16:36:53
-2025-11-14 16:36:53
-2025-11-14 16:36:48
-2025-11-14 16:36:48
-2025-11-14 16:36:48
-2025-11-14 16:36:48
-2025-11-14 16:36:49
-2025-11-14 16:36:49
-2025-11-14 16:36:49
-2025-11-14 16:36:49
-2025-11-14 16:36:50
-2025-11-14 16:36:49
-2025-11-14 16:36:50
-2025-11-14 16:36:50
-2025-11-14 16:36:50
-2025-11-14 16:36:50
-2025-11-14 16:36:50
-2025-11-14 16:36:51
-2025-11-14 16:36:50
-2025-11-14 16:36:50
-2025-11-14 16:36:50
-2025-11-14 16:36:50
-2025-11-14 16:36:50
-2025-11-14 16:36:50
-2025-11-14 16:36:50
-2025-11-14 16:36:50
-2025-11-14 16:36:50
-2025-11-14 16:36:50
-2025-11-14 16:36:51
-2025-11-14 16:36:51
-2025-11-14 16:36:51
-2025-11-14 16:36:51
-2025-11-14 16:36:51
-2025-11-14 16:36:51
-2025-11-14 16:36:51
-2025-11-14 16:36:51
-2025-11-14 16:36:51
-2025-11-14 16:36:51
-2025-11-14 16:36:51
-2025-11-14 16:36:51
-2025-11-14 16:36:51
-2025-11-14 16:36:51
-2025-11-14 16:36:51
-2025-11-14 16:36:52
-2025-11-14 16:36:52
-2025-11-14 16:36:52
-2025-11-14 16:36:52
-2025-11-14 16:36:52
-2025-11-14 16:36:52
-2025-11-14 16:36:52
-2025-11-14 16:36:52
-2025-11-14 16:36:52
-2025-11-14 16:36:52
-2025-11-14 16:36:52
-2025-11-14 16:36:52
-2025-11-14 16:36:52
-2025-11-14 16:36:53
-2025-10-23 15:30:29
-2025-11-14 16:36:53
-2025-11-14 16:36:53
-2025-11-14 16:36:53
-2025-11-14 16:36:53
-2025-11-14 16:36:53
-2025-11-14 16:36:53
-2025-11-14 16:36:53
-2025-11-14 16:36:53
-2025-11-14 16:36:53
-2025-11-14 16:36:53
-2025-11-14 16:36:53
-2025-11-14 16:36:53
-2025-11-14 16:36:54
-2025-11-14 16:36:54
-2025-11-14 16:36:54
-2025-11-14 16:36:54
-2025-11-14 16:36:54
-2025-11-14 16:36:54
-2025-11-14 16:36:54
-2025-11-14 16:36:54
-2025-11-14 16:36:54
-2025-11-14 16:36:54
-2025-11-14 16:36:54
-2025-11-14 16:36:54
-2025-11-14 16:36:54
-2025-11-14 16:36:54
-2025-11-14 16:36:54
-2025-11-14 16:36:54
-2025-11-14 16:36:54
-2025-11-14 16:36:54
-2025-11-14 16:36:54
-2025-11-14 16:36:54
-2025-11-14 16:36:54
-2025-11-14 16:36:55
-2025-11-14 16:36:55
-2025-11-14 16:36:55
-2025-11-14 16:36:55
-2025-11-14 16:36:55
-2025-11-14 16:36:55
-2025-11-14 16:36:55
-2025-11-14 16:36:55
-2025-11-14 16:36:55
-2025-11-14 16:36:53
-2025-11-14 16:36:53
-2025-11-14 16:36:53
-2025-11-14 16:36:54
-2025-11-14 16:36:54
-2025-11-14 16:36:54
-2025-10-23 15:30:29
-2025-11-14 16:36:54
-2025-11-14 16:36:55
-2025-11-14 16:36:55
-2025-11-14 16:36:55
-2025-11-14 16:36:55
-2025-10-23 15:30:29
-2025-11-14 16:36:55
-2025-11-14 16:36:55
-2025-11-14 16:36:55
-2025-11-14 16:36:55
-2025-11-14 16:36:55
-2025-11-14 16:36:55
-2025-11-14 16:36:56
-2025-11-14 16:36:56
-2025-11-14 16:36:56
-2025-11-14 16:36:56
-2025-11-14 16:36:56
-2025-11-14 16:36:56
-2025-11-14 16:36:56
-2025-11-14 16:36:56
-2025-11-14 16:36:56
-2025-11-14 16:36:56
-2025-11-14 16:36:56
-2025-11-14 16:36:56
-2025-11-14 16:36:56
-2025-11-14 16:36:56
-2025-11-14 16:36:56
-2025-11-14 16:36:56
-2025-11-14 16:36:56
-2025-11-14 16:36:56
-2025-11-14 16:36:56
-2025-11-14 16:36:56
-2025-11-14 16:36:56
-2025-11-14 16:36:56
-2025-11-14 16:36:56
-2025-11-14 16:36:57
-2025-11-14 16:36:57
-2025-11-14 16:36:57
-2025-11-14 16:36:57
-2025-10-23 15:30:30
-2025-11-14 16:36:57
-2025-11-14 16:36:57
-2025-11-14 16:36:57
-2025-11-14 16:36:57
-2025-11-14 16:36:57
-2025-11-14 16:36:15
-2025-11-14 16:36:15
-2025-11-14 16:36:15
-2025-11-14 16:36:15
-2025-11-14 16:36:15
-2025-11-14 16:36:15
-2025-11-14 16:36:15
-2025-11-14 16:36:15
-2025-11-14 16:36:15
-2025-11-14 16:36:15
-2025-11-14 16:36:15
-2025-11-14 16:36:15
-2025-11-14 16:36:15
-2025-11-14 16:36:15
-2025-11-14 16:36:15
-2025-11-14 16:36:15
-2025-11-14 16:36:15
-2025-11-14 16:36:15
-2025-11-14 16:36:15
-2025-11-14 16:36:15
-2025-11-14 16:36:15
-2025-11-14 16:36:15
-2025-11-14 16:36:15
-2025-11-14 16:36:15
-2025-11-14 16:36:15
-2025-11-14 16:36:15
-2025-11-14 16:36:15
-2025-11-14 16:36:15
-2025-11-14 16:36:15
-2025-11-14 16:36:15
-2025-11-14 16:36:15
-2025-11-14 16:36:15
-2025-11-14 16:36:15
-2025-11-14 16:36:15
-2025-11-14 16:36:16
-2025-11-14 16:36:16
-2025-11-14 16:36:16
-2025-11-14 16:36:16
-2025-11-14 16:36:16
-2025-11-14 16:36:16
-2025-11-14 16:36:16
-2025-11-14 16:36:16
-2025-11-14 16:36:16
-2025-11-14 16:36:16
-2025-11-14 16:36:16
-2025-11-14 16:36:16
-2025-11-14 16:36:16
-2025-11-14 16:36:16
-2025-11-14 16:36:16
-2025-11-14 16:36:16
-2025-11-14 16:36:16
-2025-11-14 16:36:16
-2025-11-14 16:36:16
-2025-11-14 16:36:16
-2025-11-14 16:36:16
-2025-11-14 16:36:16
-2025-11-14 16:36:16
-2025-11-14 16:36:16
-2025-11-14 16:36:16
-2025-11-14 16:36:16
-2025-11-14 16:36:16
-2025-11-14 16:36:16
-2025-11-14 16:36:17
-2025-11-14 16:36:17
-2025-11-14 16:36:17
-2025-11-14 16:36:17
-2025-11-14 16:36:17
-2025-11-14 16:36:17
-2025-11-14 16:36:17
-2025-11-14 16:36:17
-2025-11-14 16:36:17
-2025-11-14 16:36:17
-2025-11-14 16:36:17
-2025-11-14 16:36:17
-2025-11-14 16:36:17
-2025-11-14 16:36:17
-2025-11-14 16:36:17
-2025-11-14 16:36:17
-2025-11-14 16:36:17
-2025-11-14 16:36:17
-2025-11-14 16:36:17
-2025-11-14 16:36:17
-2025-11-14 16:36:17
-2025-11-14 16:36:17
-2025-11-14 16:36:17
-2025-11-14 16:36:17
-2025-11-14 16:36:17
-2025-11-14 16:36:17
-2025-11-14 16:36:17
-2025-11-14 16:36:17
-2025-11-14 16:36:17
-2025-11-14 16:36:17
-2025-10-23 15:30:18
-2025-11-14 16:36:17
-2025-11-14 16:36:18
-2025-11-14 16:36:18
-2025-11-14 16:36:17
-2025-11-14 16:36:18
-2025-11-14 16:35:40
-2025-11-14 16:36:18
-2025-11-14 16:36:18
-2025-11-14 16:36:18
-2025-11-14 16:36:18
-2025-11-14 16:36:18
-2025-11-14 16:36:18
-2025-11-14 16:36:18
-2025-10-23 15:30:18
-2025-10-23 15:30:18
-2025-10-23 15:30:18
-2025-10-23 15:30:18
-2025-11-14 16:36:18
-2025-11-14 16:36:18
-2025-11-14 16:36:18
-2025-11-14 16:36:18
-2025-11-14 16:36:18
-2025-11-14 16:36:18
-2025-11-14 16:36:18
-2025-11-14 16:36:18
-2025-11-14 16:36:18
-2025-11-14 16:36:18
-2025-11-14 16:36:18
-2025-11-14 16:36:18
-2025-11-14 16:36:18
-2025-11-14 16:36:19
-2025-11-14 16:36:19
-2025-11-14 16:36:19
-2025-11-14 16:36:19
-2025-11-14 16:36:19
-2025-11-14 16:36:19
-2025-11-14 16:36:19
-2025-11-14 16:36:19
-2025-11-14 16:36:19
-2025-11-14 16:36:22
-2025-11-14 16:36:19
-2025-11-14 16:36:19
-2025-11-14 16:36:19
-2025-11-14 16:36:19
-2025-11-14 16:36:19
-2025-11-14 16:36:19
-2025-11-14 16:36:19
-2025-11-14 16:36:19
-2025-11-14 16:36:19
-2025-11-14 16:36:19
-2025-11-14 16:36:19
-2025-10-23 15:30:19
-2025-11-14 16:36:19
-2025-11-14 16:36:20
-2025-11-14 16:36:19
-2025-11-14 16:36:19
-2025-11-14 16:36:20
-2025-11-14 16:36:20
-2025-11-14 16:36:20
-2025-11-14 16:36:20
-2025-11-14 16:36:20
-2025-11-14 16:36:20
-2025-11-14 16:36:20
-2025-11-14 16:36:20
-2025-11-14 16:36:20
-2025-11-14 16:36:20
-2025-11-14 16:36:20
-2025-11-14 16:36:20
-2025-11-14 16:36:20
-2025-11-14 16:36:20
-2025-11-14 16:36:20
-2025-11-14 16:36:20
-2025-11-14 16:36:20
-2025-11-14 16:36:20
-2025-11-14 16:36:20
-2025-11-14 16:36:20
-2025-11-14 16:36:20
-2025-11-14 16:36:20
-2025-11-14 16:36:20
-2025-11-14 16:36:20
-2025-11-14 16:36:20
-2025-10-23 15:30:19
-2025-11-14 16:36:20
-2025-11-14 16:36:21
-2025-11-14 16:36:21
-2025-11-14 16:36:21
-2025-11-14 16:36:21
-2025-11-14 16:36:21
-2025-11-14 16:36:21
-2025-11-14 16:36:21
-2025-11-14 16:36:21
-2025-11-14 16:36:21
-2025-11-14 16:36:21
-2025-11-14 16:36:21
-2025-11-14 16:36:21
-2025-11-14 16:36:21
-2025-11-14 16:36:21
-2025-11-14 16:36:21
-2025-11-14 16:36:21
-2025-11-14 16:36:21
-2025-11-14 16:36:21
-2025-11-14 16:36:21
-2025-11-14 16:36:21
-2025-11-14 16:36:21
-2025-11-14 16:36:22
-2025-11-14 16:36:21
-2025-11-14 16:36:21
-2025-11-14 16:36:21
-2025-11-14 16:36:21
-2025-11-14 16:36:21
-2025-11-14 16:36:21
-2025-11-14 16:36:21
-2025-11-14 16:36:21
-2025-11-14 16:36:21
-2025-11-14 16:36:21
-2025-11-14 16:36:22
-2025-11-14 16:36:22
-2025-11-14 16:36:22
-2025-11-14 16:36:22
-2025-11-14 16:36:22
-2025-11-14 16:36:22
-2025-11-14 16:36:22
-2025-11-14 16:36:22
-2025-11-14 16:36:22
-2025-11-14 16:36:22
-2025-11-14 16:36:22
-2025-11-14 16:36:22
-2025-11-14 16:36:22
-2025-11-14 16:36:22
-2025-11-14 16:36:22
-2025-11-14 16:36:22
-2025-11-14 16:36:22
-2025-11-14 16:36:22
-2025-11-14 16:36:22
-2025-11-14 16:36:22
-2025-11-14 16:36:22
-2025-11-14 16:36:22
-2025-11-14 16:36:22
-2025-11-14 16:36:22
-2025-11-14 16:36:22
-2025-11-14 16:36:22
-2025-11-14 16:36:22
-2025-11-14 16:36:22
-2025-11-14 16:36:22
-2025-11-14 16:36:22
-2025-11-14 16:36:22
-2025-11-14 16:36:22
-2025-11-14 16:36:22
-2025-11-14 16:36:22
-2025-11-14 16:36:22
-2025-11-14 16:36:23
-2025-11-14 16:36:23
-2025-11-14 16:36:23
-2025-11-14 16:36:23
-2025-11-14 16:36:23
-2025-11-14 16:36:23
-2025-11-14 16:36:23
-2025-11-14 16:36:23
-2025-11-14 16:36:23
-2025-11-14 16:36:23
-2025-11-14 16:36:23
-2025-11-14 16:36:25
-2025-11-14 16:36:23
-2025-11-14 16:36:23
-2025-11-14 16:36:23
-2025-11-14 16:36:23
-2025-11-14 16:36:23
-2025-11-14 16:36:23
-2025-11-14 16:36:23
-2025-11-14 16:36:23
-2025-11-14 16:36:23
-2025-11-14 16:36:23
-2025-11-14 16:36:23
-2025-11-14 16:36:23
-2025-11-14 16:36:23
-2025-11-14 16:36:23
-2025-11-14 16:36:23
-2025-11-14 16:36:23
-2025-11-14 16:36:23
-2025-11-14 16:36:23
-2025-11-14 16:36:23
-2025-11-14 16:36:23
-2025-11-14 16:36:24
-2025-11-14 16:36:24
-2025-11-14 16:36:24
-2025-11-14 16:36:24
-2025-11-14 16:36:24
-2025-11-14 16:36:24
-2025-11-14 16:36:24
-2025-11-14 16:36:24
-2025-11-14 16:36:24
-2025-11-14 16:36:24
-2025-11-14 16:36:24
-2025-11-14 16:36:24
-2025-11-14 16:36:24
-2025-11-14 16:36:24
-2025-11-14 16:36:24
-2025-11-14 16:36:24
-2025-11-14 16:36:24
-2025-11-14 16:36:24
-2025-11-14 16:36:24
-2025-11-14 16:36:24
-2025-11-14 16:36:24
-2025-11-14 16:36:24
-2025-11-14 16:36:24
-2025-11-14 16:36:24
-2025-11-14 16:36:24
-2025-11-14 16:36:24
-2025-11-14 16:36:25
-2025-11-14 16:36:25
-2025-11-14 16:36:25
-2025-11-14 16:36:25
-2025-11-14 16:36:25
-2025-11-14 16:36:25
-2025-11-14 16:36:25
-2025-11-14 16:36:25
-2025-11-14 16:36:25
-2025-11-14 16:36:25
-2025-11-14 16:36:25
-2025-11-14 16:36:25
-2025-11-14 16:36:25
-2025-11-14 16:36:25
-2025-11-14 16:36:25
-2025-11-14 16:36:25
-2025-11-14 16:36:25
-2025-11-14 16:36:25
-2025-11-14 16:36:25
-2025-11-14 16:36:25
-2025-11-14 16:36:25
-2025-11-14 16:36:26
-2025-11-14 16:36:25
-2025-11-14 16:36:26
-2025-11-14 16:36:26
-2025-11-14 16:36:26
-2025-11-14 16:36:26
-2025-11-14 16:36:26
-2025-11-14 16:36:26
-2025-11-14 16:36:26
-2025-11-14 16:36:26
-2025-11-14 16:36:26
-2025-11-14 16:36:26
-2025-11-14 16:36:26
-2025-11-14 16:36:26
-2025-11-14 16:36:26
-2025-11-14 16:36:26
-2025-11-14 16:36:26
-2025-11-14 16:36:26
-2025-11-14 16:36:26
-2025-11-14 16:36:26
-2025-11-14 16:36:26
-2025-11-14 16:36:26
-2025-11-14 16:36:26
-2025-11-14 16:36:26
-2025-11-14 16:36:26
-2025-11-14 16:36:26
-2025-11-14 16:36:26
-2025-11-14 16:36:26
-2025-11-14 16:36:26
-2025-11-14 16:36:26
-2025-11-14 16:36:26
-2025-11-14 16:36:26
-2025-11-14 16:36:26
-2025-11-14 16:36:26
-2025-11-14 16:36:26
-2025-11-14 16:36:26
-2025-11-14 16:36:26
-2025-11-14 16:36:26
-2025-11-14 16:36:26
-2025-11-14 16:36:26
-2025-11-14 16:36:27
-2025-11-14 16:36:27
-2025-11-14 16:36:27
-2025-11-14 16:36:27
-2025-11-14 16:36:27
-2025-11-14 16:36:27
-2025-11-14 16:36:27
-2025-11-14 16:36:27
-2025-11-14 16:36:27
-2025-11-14 16:36:27
-2025-11-14 16:36:27
-2025-11-14 16:36:27
-2025-11-14 16:36:27
-2025-11-14 16:36:27
-2025-11-14 16:36:27
-2025-11-14 16:36:27
-2025-11-14 16:36:27
-2025-11-14 16:36:27
-2025-11-14 16:36:27
-2025-11-14 16:36:27
-2025-11-14 16:36:27
-2025-11-14 16:36:27
-2025-11-14 16:36:27
-2025-11-14 16:36:27
-2025-11-14 16:36:27
-2025-11-14 16:36:27
-2025-11-14 16:36:27
-2025-11-14 16:36:27
-2025-11-14 16:36:27
-2025-11-14 16:36:27
-2025-11-14 16:36:27
-2025-11-14 16:36:27
-2025-11-14 16:36:27
-2025-11-14 16:36:27
-2025-11-14 16:36:27
-2025-11-14 16:36:27
-2025-11-14 16:36:27
-2025-11-14 16:36:27
-2025-11-14 16:36:28
-2025-11-14 16:36:28
-2025-11-14 16:36:28
-2025-11-14 16:36:28
-2025-11-14 16:36:28
-2025-11-14 16:36:28
-2025-11-14 16:36:28
-2025-11-14 16:36:29
-2025-11-14 16:36:30
-2025-11-14 16:36:27
-2025-11-14 16:36:27
-2025-11-14 16:36:27
-2025-11-14 16:36:28
-2025-11-14 16:36:28
-2025-11-14 16:36:28
-2025-11-14 16:36:28
-2025-11-14 16:36:28
-2025-11-14 16:36:28
-2025-11-14 16:36:28
-2025-11-14 16:36:28
-2025-11-14 16:36:28
-2025-11-14 16:36:28
-2025-11-14 16:36:28
-2025-11-14 16:36:28
-2025-11-14 16:36:28
-2025-11-14 16:36:28
-2025-11-14 16:36:28
-2025-11-14 16:36:28
-2025-11-14 16:36:28
-2025-11-14 16:36:28
-2025-11-14 16:36:28
-2025-11-14 16:36:28
-2025-11-14 16:36:28
-2025-11-14 16:36:28
-2025-11-14 16:36:29
-2025-11-14 16:36:29
-2025-11-14 16:36:29
-2025-11-14 16:36:29
-2025-11-14 16:36:29
-2025-11-14 16:36:29
-2025-11-14 16:36:29
-2025-11-14 16:36:29
-2025-11-14 16:36:29
-2025-11-14 16:36:29
-2025-11-14 16:36:29
-2025-11-14 16:36:29
-2025-11-14 16:36:29
-2025-11-14 16:36:29
-2025-11-14 16:36:29
-2025-11-14 16:36:29
-2025-11-14 16:36:29
-2025-11-14 16:36:29
-2025-11-14 16:36:29
-2025-11-14 16:36:29
-2025-11-14 16:36:29
-2025-11-14 16:36:29
-2025-11-14 16:36:29
-2025-11-14 16:36:29
-2025-11-14 16:36:29
-2025-11-14 16:36:30
-2025-11-14 16:36:30
-2025-11-14 16:36:30
-2025-11-14 16:36:30
-2025-11-14 16:36:29
-2025-11-14 16:36:30
-2025-11-14 16:36:30
-2025-10-23 15:30:22
-2025-11-14 16:36:30
-2025-11-14 16:36:30
-2025-11-14 16:36:30
-2025-11-14 16:36:30
-2025-11-14 16:36:30
-2025-11-14 16:36:30
-2025-11-14 16:36:30
-2025-11-14 16:36:30
-2025-11-14 16:36:30
-2025-11-14 16:36:30
-2025-11-14 16:36:30
-2025-11-14 16:36:30
-2025-11-14 16:36:30
-2025-11-14 16:36:30
-2025-11-14 16:36:30
-2025-11-14 16:36:30
-2025-11-14 16:36:31
-2025-11-14 16:36:31
-2025-10-23 15:30:22
-2025-10-23 15:30:22
-2025-11-14 16:36:31
-2025-11-14 16:36:31
-2025-11-14 16:36:31
-2025-11-14 16:36:31
-2025-11-14 16:36:31
-2025-11-14 16:36:31
-2025-11-14 16:36:31
-2025-11-14 16:36:31
-2025-11-14 16:36:31
-2025-10-23 15:30:22
-2025-11-14 16:36:31
-2025-11-14 16:36:31
-2025-11-14 16:36:31
-2025-11-14 16:36:31
-2025-11-14 16:35:52
-2025-11-14 16:36:31
-2025-11-14 16:36:32
-2025-11-14 16:36:32
-2025-11-14 16:36:31
-2025-11-14 16:36:32
-2025-11-14 16:36:32
-2025-11-14 16:36:32
-2025-11-14 16:36:32
-2025-11-14 16:36:32
-2025-11-14 16:36:32
-2025-11-14 16:36:33
-2025-11-14 16:36:33
-2025-11-14 16:36:33
-2025-11-14 16:36:33
-2025-11-14 16:36:33
-2025-11-14 16:36:33
-2025-11-14 16:36:33
-2025-11-14 16:36:33
-2025-11-14 16:36:33
-2025-11-14 16:36:33
-2025-11-14 16:36:31
-2025-11-14 16:36:31
-2025-11-14 16:36:31
-2025-11-14 16:36:32
-2025-11-14 16:36:32
-2025-11-14 16:36:32
-2025-11-14 16:36:32
-2025-11-14 16:36:32
-2025-11-14 16:36:32
-2025-11-14 16:36:32
-2025-11-14 16:36:32
-2025-11-14 16:36:32
-2025-11-14 16:36:32
-2025-11-14 16:36:32
-2025-11-14 16:36:32
-2025-11-14 16:36:32
-2025-11-14 16:36:32
-2025-11-14 16:36:32
-2025-11-14 16:36:32
-2025-11-14 16:36:32
-2025-11-14 16:36:32
-2025-11-14 16:36:32
-2025-10-23 15:30:23
-2025-10-23 15:30:23
-2025-11-14 16:36:32
-2025-11-14 16:36:33
-2025-11-14 16:36:33
-2025-11-14 16:36:33
-2025-11-14 16:36:33
-2025-11-14 16:36:33
-2025-11-14 16:36:33
-2025-11-14 16:36:33
-2025-11-14 16:36:33
-2025-11-14 16:36:33
-2025-11-14 16:36:33
-2025-11-14 16:36:33
-2025-11-14 16:36:33
-2025-11-14 16:36:33
-2025-11-14 16:36:33
-2025-11-14 16:36:33
-2025-11-14 16:36:33
-2025-10-23 15:30:23
-2025-11-14 16:36:33
-2025-11-14 16:36:33
-2025-11-14 16:36:33
-2025-11-14 16:36:33
-2025-11-14 16:36:33
-2025-11-14 16:36:33
-2025-11-14 16:36:33
-2025-11-14 16:36:34
-2025-11-14 16:36:34
-2025-11-14 16:36:34
-2025-11-14 16:36:34
-2025-11-14 16:36:34
-2025-11-14 16:36:34
-2025-11-14 16:36:34
-2025-11-14 16:36:34
-2025-11-14 16:36:34
-2025-11-14 16:36:34
-2025-11-14 16:36:34
-2025-11-14 16:36:34
-2025-11-14 16:36:34
-2025-11-14 16:36:34
-2025-11-14 16:36:34
-2025-11-14 16:36:34
-2025-10-23 15:30:23
-2025-11-14 16:36:34
-2025-11-14 16:36:35
-2025-11-14 16:36:35
-2025-11-14 16:36:34
-2025-11-14 16:36:34
-2025-11-14 16:36:35
-2025-11-14 16:36:34
-2025-11-14 16:36:34
-2025-11-14 16:36:34
-2025-11-14 16:36:34
-2025-11-14 16:36:34
-2025-11-14 16:36:34
-2025-11-14 16:36:34
-2025-11-14 16:36:34
-2025-11-14 16:36:34
-2025-11-14 16:36:35
-2025-11-14 16:36:35
-2025-11-14 16:36:35
-2025-11-14 16:36:35
-2025-11-14 16:36:35
-2025-11-14 16:36:35
-2025-11-14 16:36:35
-2025-11-14 16:36:35
-2025-11-14 16:36:35
-2025-11-14 16:36:35
-2025-11-14 16:36:35
-2025-11-14 16:36:35
-2025-11-14 16:36:35
-2025-11-14 16:36:35
-2025-11-14 16:36:35
-2025-11-14 16:36:35
-2025-11-14 16:36:35
-2025-11-14 16:36:35
-2025-11-14 16:36:36
-2025-11-14 16:36:36
-2025-11-14 16:36:36
-2025-11-14 16:36:35
-2025-11-14 16:36:35
-2025-11-14 16:36:35
-2025-11-14 16:36:35
-2025-11-14 16:36:36
-2025-11-14 16:36:36
-2025-11-14 16:36:36
-2025-11-14 16:36:36
-2025-11-14 16:36:36
-2025-11-14 16:36:36
-2025-11-14 16:36:36
-2025-11-14 16:36:36
-2025-11-14 16:36:36
-2025-11-14 16:36:36
-2025-11-14 16:36:36
-2025-11-14 16:36:36
-2025-11-14 16:36:36
-2025-11-14 16:36:36
-2025-11-14 16:36:36
-2025-11-14 16:36:36
-2025-11-14 16:36:36
-2025-11-14 16:36:36
-2025-11-14 16:36:36
-2025-11-14 16:36:36
-2025-11-14 16:36:36
-2025-11-14 16:36:36
-2025-11-14 16:36:36
-2025-11-14 16:36:37
-2025-11-14 16:36:37
-2025-11-14 16:36:37
-2025-11-14 16:36:37
-2025-11-14 16:36:37
-2025-11-14 16:36:37
-2025-11-14 16:36:37
-2025-11-14 16:36:37
-2025-11-14 16:36:37
-2025-11-14 16:36:36
-2025-11-14 16:36:36
-2025-11-14 16:36:36
-2025-11-14 16:36:36
-2025-11-14 16:36:36
-2025-11-14 16:36:36
-2025-11-14 16:36:37
-2025-11-14 16:36:36
-2025-11-14 16:36:36
-2025-11-14 16:36:36
-2025-11-14 16:36:37
-2025-11-14 16:36:37
-2025-11-14 16:36:37
-2025-11-14 16:36:37
-2025-11-14 16:36:37
-2025-11-14 16:36:37
-2025-11-14 16:36:37
-2025-11-14 16:36:37
-2025-11-14 16:36:37
-2025-11-14 16:36:37
-2025-11-14 16:36:37
-2025-11-14 16:36:37
-2025-11-14 16:36:37
-2025-11-14 16:36:37
-2025-11-14 16:36:37
-2025-11-14 16:36:37
-2025-11-14 16:36:37
-2025-11-14 16:36:37
-2025-11-14 16:36:37
-2025-11-14 16:36:37
-2025-11-14 16:36:37
-2025-11-14 16:36:37
-2025-11-14 16:36:37
-2025-11-14 16:36:38
-2025-11-14 16:36:38
-2025-11-14 16:36:38
-2025-11-14 16:36:38
-2025-11-14 16:36:38
-2025-11-14 16:36:38
-2025-11-14 16:36:38
-2025-11-14 16:36:38
-2025-11-14 16:36:38
-2025-11-14 16:36:38
-2025-11-14 16:36:38
-2025-11-14 16:36:38
-2025-11-14 16:36:38
-2025-11-14 16:36:38
-2025-11-14 16:36:38
-2025-11-14 16:36:38
-2025-11-14 16:36:38
-2025-11-14 16:36:39
-2025-11-14 16:36:39
-2025-11-14 16:36:39
-2025-11-14 16:36:39
-2025-11-14 16:36:39
-2025-11-14 16:36:39
-2025-11-14 16:36:39
-2025-11-14 16:36:39
-2025-11-14 16:36:39
-2025-11-14 16:36:39
-2025-11-14 16:36:39
-2025-11-14 16:36:39
-2025-11-14 16:36:39
-2025-11-14 16:36:39
-2025-11-14 16:36:39
-2025-11-14 16:36:39
-2025-11-14 16:36:39
-2025-11-14 16:36:39
-2025-11-14 16:36:39
-2025-11-14 16:36:39
-2025-11-14 16:36:39
-2025-11-14 16:36:39
-2025-11-14 16:36:39
-2025-11-14 16:36:40
-2025-11-14 16:36:40
-2025-10-23 15:30:25
-2025-11-14 16:36:40
-2025-11-14 16:36:40
-2025-11-14 16:36:40
-2025-11-14 16:36:40
-2025-11-14 16:36:40
-2025-11-14 16:36:40
-2025-11-14 16:36:40
-2025-11-14 16:36:40
-2025-11-14 16:36:40
-2025-11-14 16:36:40
-2025-11-14 16:36:40
-2025-11-14 16:36:40
-2025-11-14 16:36:40
-2025-11-14 16:36:40
-2025-11-14 16:36:40
-2025-11-14 16:36:40
-2025-11-14 16:36:40
-2025-11-14 16:36:40
-2025-11-14 16:36:40
-2025-11-14 16:36:40
-2025-11-14 16:36:40
-2025-11-14 16:36:40
-2025-11-14 16:36:40
-2025-11-14 16:36:40
-2025-11-14 16:36:41
-2025-11-14 16:36:40
-2025-11-14 16:36:40
-2025-11-14 16:36:40
-2025-11-14 16:36:40
-2025-11-14 16:36:40
-2025-11-14 16:36:40
-2025-11-14 16:36:41
-2025-11-14 16:36:41
-2025-11-14 16:36:41
-2025-11-14 16:36:41
-2025-11-14 16:36:41
-2025-11-14 16:36:41
-2025-11-14 16:36:41
-2025-11-14 16:36:41
-2025-11-14 16:36:41
-2025-11-14 16:36:41
-2025-10-23 15:30:25
-2025-11-14 16:36:41
-2025-11-14 16:36:41
-2025-11-14 16:36:41
-2025-11-14 16:36:43
-2025-11-14 16:36:43
-2025-11-14 16:36:41
-2025-11-14 16:36:41
-2025-11-14 16:36:41
-2025-11-14 16:36:41
-2025-11-14 16:36:41
-2025-11-14 16:36:41
-2025-11-14 16:36:41
-2025-11-14 16:36:41
-2025-11-14 16:36:41
-2025-11-14 16:36:41
-2025-11-14 16:36:41
-2025-11-14 16:36:41
-2025-11-14 16:36:42
-2025-11-14 16:36:42
-2025-11-14 16:36:41
-2025-11-14 16:36:41
-2025-11-14 16:36:42
-2025-11-14 16:36:42
-2025-11-14 16:36:42
-2025-11-14 16:36:42
-2025-11-14 16:36:42
-2025-11-14 16:36:42
-2025-11-14 16:36:42
-2025-11-14 16:36:42
-2025-11-14 16:36:42
-2025-11-14 16:36:42
-2025-11-14 16:36:42
-2025-11-14 16:36:42
-2025-11-14 16:36:42
-2025-11-14 16:36:42
-2025-11-14 16:36:42
-2025-11-14 16:36:42
-2025-11-14 16:36:42
-2025-11-14 16:36:42
-2025-11-14 16:36:42
-2025-11-14 16:36:42
-2025-11-14 16:36:42
-2025-11-14 16:36:42
-2025-11-14 16:36:42
-2025-11-14 16:36:42
-2025-11-14 16:36:42
-2025-11-14 16:36:42
-2025-11-14 16:36:42
-2025-11-14 16:36:42
-2025-11-14 16:36:42
-2025-11-14 16:36:42
-2025-11-14 16:36:43
-2025-11-14 16:36:43
-2025-11-14 16:36:43
-2025-11-14 16:36:43
-2025-11-14 16:36:43
-2025-11-14 16:36:43
-2025-11-14 16:36:43
-2025-11-14 16:36:43
-2025-11-14 16:36:43
-2025-11-14 16:36:43
-2025-11-14 16:36:43
-2025-11-14 16:36:43
-2025-11-14 16:36:43
-2025-11-14 16:36:43
-2025-11-14 16:36:43
-2025-11-14 16:36:43
-2025-11-14 16:36:43
-2025-11-14 16:36:43
-2025-11-14 16:36:43
-2025-11-14 16:36:43
-2025-11-14 16:36:43
-2025-11-14 16:36:43
-2025-11-14 16:36:43
-2025-11-14 16:36:43
-2025-11-14 16:36:43
-2025-11-14 16:36:43
-2025-11-14 16:36:43
-2025-11-14 16:36:43
-2025-11-14 16:36:43
-2025-11-14 16:36:43
-2025-11-14 16:36:44
-2025-11-14 16:36:44
-2025-11-14 16:36:44
-2025-11-14 16:36:44
-2025-11-14 16:36:44
-2025-11-14 16:36:44
-2025-11-14 16:36:44
-2025-10-23 15:30:26
-2025-11-14 16:36:44
-2025-11-14 16:36:44
-2025-11-14 16:36:44
-2025-11-14 16:36:44
-2025-11-14 16:36:44
-2025-11-14 16:36:44
-2025-11-14 16:36:44
-2025-11-14 16:36:44
-2025-11-14 16:36:44
-2025-11-14 16:36:44
-2025-11-14 16:36:44
-2025-11-14 16:36:44
-2025-11-14 16:36:44
-2025-11-14 16:36:45
-2025-11-14 16:36:45
-2025-11-14 16:36:45
-2025-10-23 15:30:27
-2025-11-14 16:36:46
-2025-11-14 16:36:46
-2025-10-23 15:30:27
-2025-11-14 16:36:47
-2025-11-14 16:36:47
-2025-11-14 16:36:47
-2025-11-14 16:36:47
-2025-11-14 16:36:47
-2025-11-14 16:36:44
-2025-11-14 16:36:44
-2025-11-14 16:36:44
-2025-11-14 16:36:44
-2025-11-14 16:36:44
-2025-11-14 16:36:44
-2025-11-14 16:36:44
-2025-11-14 16:36:44
-2025-11-14 16:36:45
-2025-11-14 16:36:45
-2025-11-14 16:36:45
-2025-11-14 16:36:45
-2025-11-14 16:36:45
-2025-11-14 16:36:45
-2025-11-14 16:36:45
-2025-11-14 16:36:45
-2025-11-14 16:36:45
-2025-11-14 16:36:45
-2025-11-14 16:36:45
-2025-11-14 16:36:45
-2025-11-14 16:36:45
-2025-11-14 16:36:45
-2025-11-14 16:36:45
-2025-11-14 16:36:46
-2025-11-14 16:36:46
-2025-11-14 16:36:46
-2025-11-14 16:36:46
-2025-11-14 16:36:46
-2025-11-14 16:36:46
-2025-11-14 16:36:46
-2025-11-14 16:36:46
-2025-11-14 16:36:46
-2025-11-14 16:36:46
-2025-11-14 16:36:46
-2025-11-14 16:36:46
-2025-11-14 16:36:46
-2025-11-14 16:36:46
-2025-11-14 16:36:46
-2025-11-14 16:36:46
-2025-11-14 16:36:46
-2025-11-14 16:36:46
-2025-11-14 16:36:46
-2025-11-14 16:36:46
-2025-11-14 16:36:47
-2025-11-14 16:36:47
-2025-11-14 16:36:47
-2025-11-14 16:36:47
-2025-11-14 16:36:47
-2025-11-14 16:36:47
-2025-11-14 16:36:47
-2025-11-14 16:36:47
-2025-11-14 16:36:47
-2025-11-14 16:36:06
-2025-11-14 16:36:47
-2025-11-14 16:36:47
-2025-11-14 16:36:07
-2025-11-14 16:36:52
-2025-11-14 16:36:52
-2025-11-14 16:36:52
-2025-11-14 16:36:48
-2025-11-14 16:36:48
-2025-11-14 16:36:48
-2025-11-14 16:36:48
-2025-11-14 16:36:48
-2025-11-14 16:36:48
-2025-11-14 16:36:48
-2025-11-14 16:36:48
-2025-11-14 16:36:48
-2025-11-14 16:36:48
-2025-11-14 16:36:48
-2025-11-14 16:36:48
-2025-11-14 16:36:48
-2025-11-14 16:36:48
-2025-11-14 16:36:48
-2025-11-14 16:36:48
-2025-11-14 16:36:48
-2025-11-14 16:36:48
-2025-11-14 16:36:48
-2025-11-14 16:36:48
-2025-11-14 16:36:48
-2025-11-14 16:36:48
-2025-11-14 16:36:48
-2025-11-14 16:36:48
-2025-11-14 16:36:48
-2025-11-14 16:36:48
-2025-11-14 16:36:49
-2025-11-14 16:36:49
-2025-11-14 16:36:49
-2025-11-14 16:36:49
-2025-11-14 16:36:49
-2025-11-14 16:36:49
-2025-11-14 16:36:49
-2025-11-14 16:36:49
-2025-11-14 16:36:49
-2025-11-14 16:36:49
-2025-11-14 16:36:49
-2025-11-14 16:36:49
-2025-11-14 16:36:49
-2025-11-14 16:36:49
-2025-11-14 16:36:49
-2025-11-14 16:36:49
-2025-11-14 16:36:49
-2025-11-14 16:36:48
-2025-11-14 16:36:48
-2025-11-14 16:36:48
-2025-11-14 16:36:48
-2025-11-14 16:36:48
-2025-11-14 16:36:48
-2025-11-14 16:36:48
-2025-11-14 16:36:48
-2025-11-14 16:36:48
-2025-11-14 16:36:48
-2025-11-14 16:36:49
-2025-11-14 16:36:49
-2025-11-14 16:36:49
-2025-11-14 16:36:49
-2025-11-14 16:36:49
-2025-11-14 16:36:49
-2025-11-14 16:36:49
-2025-11-14 16:36:49
-2025-11-14 16:36:49
-2025-11-14 16:36:49
-2025-11-14 16:36:49
-2025-11-14 16:36:49
-2025-11-14 16:36:49
-2025-11-14 16:36:49
-2025-11-14 16:36:49
-2025-11-14 16:36:49
-2025-11-14 16:36:49
-2025-11-14 16:36:49
-2025-11-14 16:36:49
-2025-11-14 16:36:49
-2025-11-14 16:36:49
-2025-11-14 16:36:49
-2025-10-23 15:30:28
-2025-10-23 15:30:28
-2025-11-14 16:36:49
-2025-11-14 16:36:50
-2025-11-14 16:36:50
-2025-10-23 15:30:28
-2025-11-14 16:36:49
-2025-11-14 16:36:50
-2025-11-14 16:36:50
-2025-11-14 16:36:50
-2025-11-14 16:36:50
-2025-11-14 16:36:50
-2025-11-14 16:36:50
-2025-11-14 16:36:50
-2025-11-14 16:36:50
-2025-11-14 16:36:50
-2025-11-14 16:36:50
-2025-11-14 16:36:50
-2025-11-14 16:36:50
-2025-11-14 16:36:50
-2025-11-14 16:36:50
-2025-11-14 16:36:50
-2025-11-14 16:36:50
-2025-11-14 16:36:50
-2025-11-14 16:36:50
-2025-11-14 16:36:50
-2025-11-14 16:36:50
-2025-11-14 16:36:50
-2025-11-14 16:36:50
-2025-11-14 16:36:50
-2025-11-14 16:36:51
-2025-11-14 16:36:51
-2025-11-14 16:36:51
-2025-11-14 16:36:51
-2025-11-14 16:36:51
-2025-11-14 16:36:51
-2025-11-14 16:36:51
-2025-11-14 16:36:51
-2025-11-14 16:36:51
-2025-11-14 16:36:51
-2025-11-14 16:36:51
-2025-11-14 16:36:51
-2025-11-14 16:36:51
-2025-11-14 16:36:51
-2025-11-14 16:36:51
-2025-11-14 16:36:51
-2025-11-14 16:36:51
-2025-11-14 16:36:51
-2025-11-14 16:36:51
-2025-11-14 16:36:51
-2025-11-14 16:36:51
-2025-11-14 16:36:51
-2025-11-14 16:36:51
-2025-11-14 16:36:51
-2025-11-14 16:36:51
-2025-11-14 16:36:51
-2025-11-14 16:36:51
-2025-11-14 16:36:52
-2025-11-14 16:36:52
-2025-11-14 16:36:52
-2025-11-14 16:36:52
-2025-11-14 16:36:52
-2025-11-14 16:36:52
-2025-11-14 16:36:52
-2025-11-14 16:36:52
-2025-11-14 16:36:52
-2025-11-14 16:36:52
-2025-11-14 16:36:52
-2025-11-14 16:36:52
-2025-11-14 16:36:52
-2025-11-14 16:36:52
-2025-11-14 16:36:52
-2025-11-14 16:36:52
-2025-11-14 16:36:52
-2025-11-14 16:36:52
-2025-11-14 16:36:52
-2025-11-14 16:36:52
-2025-11-14 16:36:53
-2025-11-14 16:36:53
-2025-11-14 16:36:52
-2025-11-14 16:36:52
-2025-11-14 16:36:53
-2025-11-14 16:36:53
-2025-11-14 16:36:53
-2025-11-14 16:36:53
-2025-11-14 16:36:53
-2025-11-14 16:36:53
-2025-11-14 16:36:53
-2025-11-14 16:36:53
-2025-11-14 16:36:53
-2025-11-14 16:36:53
-2025-11-14 16:36:53
-2025-11-14 16:36:53
-2025-11-14 16:36:53
-2025-11-14 16:36:53
-2025-11-14 16:36:53
-2025-11-14 16:36:53
-2025-11-14 16:36:53
-2025-11-14 16:36:53
-2025-11-14 16:36:53
-2025-11-14 16:36:53
-2025-11-14 16:36:53
-2025-11-14 16:36:53
-2025-11-14 16:36:53
-2025-11-14 16:36:53
-2025-11-14 16:36:54
-2025-11-14 16:36:55
-2025-11-14 16:36:55
-2025-11-14 16:36:55
-2025-11-14 16:36:55
-2025-11-14 16:36:53
-2025-11-14 16:36:53
-2025-11-14 16:36:53
-2025-11-14 16:36:54
-2025-11-14 16:36:54
-2025-11-14 16:36:54
-2025-11-14 16:36:54
-2025-11-14 16:36:54
-2025-11-14 16:36:54
-2025-11-14 16:36:54
-2025-11-14 16:36:54
-2025-11-14 16:36:54
-2025-11-14 16:36:54
-2025-11-14 16:36:54
-2025-11-14 16:36:54
-2025-11-14 16:36:54
-2025-11-14 16:36:54
-2025-11-14 16:36:54
-2025-11-14 16:36:54
-2025-11-14 16:36:54
-2025-11-14 16:36:54
-2025-11-14 16:36:54
-2025-11-14 16:36:54
-2025-11-14 16:36:54
-2025-11-14 16:36:55
-2025-11-14 16:36:54
-2025-11-14 16:36:55
-2025-11-14 16:36:55
-2025-11-14 16:36:55
-2025-11-14 16:36:55
-2025-11-14 16:36:55
-2025-11-14 16:36:55
-2025-11-14 16:36:55
-2025-11-14 16:36:55
-2025-11-14 16:36:55
-2025-11-14 16:36:55
-2025-11-14 16:36:55
-2025-11-14 16:36:55
-2025-10-23 15:30:29
-2025-11-14 16:36:55
-2025-11-14 16:36:55
-2025-11-14 16:36:55
-2025-11-14 16:36:55
-2025-11-14 16:36:55
-2025-11-14 16:36:55
-2025-11-14 16:36:55
-2025-11-14 16:36:55
-2025-11-14 16:36:55
-2025-11-14 16:36:55
-2025-11-14 16:36:55
-2025-11-14 16:36:55
-2025-11-14 16:36:55
-2025-11-14 16:36:55
-2025-11-14 16:36:55
-2025-11-14 16:36:56
-2025-11-14 16:36:56
-2025-11-14 16:36:56
-2025-11-14 16:36:56
-2025-11-14 16:36:56
-2025-11-14 16:36:56
-2025-11-14 16:36:56
-2025-11-14 16:36:56
-2025-11-14 16:36:56
-2025-11-14 16:36:56
-2025-11-14 16:36:56
-2025-11-14 16:36:56
-2025-11-14 16:36:56
-2025-11-14 16:36:56
-2025-11-14 16:36:56
-2025-11-14 16:36:56
-2025-11-14 16:36:56
-2025-11-14 16:36:56
-2025-11-14 16:36:56
-2025-11-14 16:36:56
-2025-11-14 16:36:56
-2025-11-14 16:36:56
-2025-11-14 16:36:56
-2025-11-14 16:36:56
-2025-11-14 16:36:56
-2025-11-14 16:36:56
-2025-11-14 16:36:57
-2025-11-14 16:36:57
-2025-11-14 16:36:57
-2025-11-14 16:36:57
-2025-11-14 16:36:57
-2025-11-14 16:36:57
-2025-11-14 16:36:57
-2025-11-14 16:36:57
-2025-11-14 16:36:57
-2025-11-14 16:36:57
-2025-11-14 16:36:57
-2025-11-14 16:36:57
-2025-11-14 16:36:57
-2025-11-14 16:36:57
7.1 KiB2025-11-14 16:35:12
7.1 KiB2025-11-14 16:35:12
7.0 KiB2025-11-14 16:35:12
515.0 KiB2025-11-14 16:35:11
2.6 KiB2025-11-14 16:35:12
352.0 KiB2025-11-14 16:35:11
3.3 KiB2025-11-14 16:35:12
1.3 MiB2025-11-14 16:37:01
7.1 KiB2025-11-14 16:35:12
604.9 KiB2025-11-14 16:35:12
3.4 MiB2025-11-14 16:37:01
8.2 MiB2025-11-14 16:37:05
238.4 KiB2025-11-14 16:35:11
7.5 KiB2025-11-14 16:35:12
528.7 KiB2025-11-14 16:35:12
3.0 MiB2025-11-14 16:36:58
389.5 KiB2025-11-14 16:35:11
11.9 KiB2025-11-14 16:35:12
6.0 KiB2025-11-14 16:35:12
44.4 MiB2025-11-14 16:37:41
19 B2025-11-14 16:35:11