Back to the "Build/check report"
BioC experimental data: BUILD/CHECK reports for airway
This page was generated on 2017-10-18 15:09:21 -0400 (Wed, 18 Oct 2017).
Package
9
/314
Hostname
OS / Arch
INSTALL
BUILD
CHECK
BUILD BIN
airway
0.110.0
Michael Love
Snapshot Date:
2017-10-18 09:00:07 -0400 (Wed, 18 Oct 2017)
URL:
https://git.bioconductor.org/packages/airway
Branch:
RELEASE_3_5
Last Commit:
d28a6d6
Last Changed Date:
2017-08-16 14:58:02 -0400 (Wed, 16 Aug 2017)
malbec2
Linux (Ubuntu 16.04.1 LTS) / x86_64
OK
OK
OK