Package: methylationArrayAnalysis Version: 1.35.0 Maintainer: Jovana Maksimovic MaintainerEmail: jovana.maksimovic at mcri.edu.au git_url: https://git.bioconductor.org/packages/methylationArrayAnalysis git_branch: devel git_last_commit: 6b67c1f git_last_commit_date: 2025-10-29 09:46:49 -0500 (Wed, 29 Oct 2025)