Package: csawUsersGuide Version: 1.27.0 Command: /home/biocbuild/bbs-3.23-bioc/R/bin/R CMD build --keep-empty-dirs --no-resave-data csawUsersGuide StartedAt: 2025-11-07 13:04:17 -0500 (Fri, 07 Nov 2025) EndedAt: 2025-11-07 13:04:22 -0500 (Fri, 07 Nov 2025) EllapsedTime: 5.0 seconds RetCode: 0 Status: OK PackageFile: csawUsersGuide_1.27.0.tar.gz PackageFileSize: 35.63 KiB