Package: chipseqDB Version: 1.35.0 Command: /home/biocbuild/bbs-3.23-bioc/R/bin/R CMD INSTALL chipseqDB StartedAt: 2025-11-25 13:00:16 -0500 (Tue, 25 Nov 2025) EndedAt: 2025-11-25 13:00:19 -0500 (Tue, 25 Nov 2025) EllapsedTime: 3.4 seconds RetCode: 0 Status: OK